BEGIN:VCALENDAR
VERSION:2.0
PRODID:-//The Putney School - ECPv6.15.20//NONSGML v1.0//EN
CALSCALE:GREGORIAN
METHOD:PUBLISH
X-ORIGINAL-URL:https://www.putneyschool.org
X-WR-CALDESC:Events for The Putney School
REFRESH-INTERVAL;VALUE=DURATION:PT1H
X-Robots-Tag:noindex
X-PUBLISHED-TTL:PT1H
BEGIN:VTIMEZONE
TZID:America/New_York
BEGIN:DAYLIGHT
TZOFFSETFROM:-0500
TZOFFSETTO:-0400
TZNAME:EDT
DTSTART:20220313T070000
END:DAYLIGHT
BEGIN:STANDARD
TZOFFSETFROM:-0400
TZOFFSETTO:-0500
TZNAME:EST
DTSTART:20221106T060000
END:STANDARD
BEGIN:DAYLIGHT
TZOFFSETFROM:-0500
TZOFFSETTO:-0400
TZNAME:EDT
DTSTART:20230312T070000
END:DAYLIGHT
BEGIN:STANDARD
TZOFFSETFROM:-0400
TZOFFSETTO:-0500
TZNAME:EST
DTSTART:20231105T060000
END:STANDARD
BEGIN:DAYLIGHT
TZOFFSETFROM:-0500
TZOFFSETTO:-0400
TZNAME:EDT
DTSTART:20240310T070000
END:DAYLIGHT
BEGIN:STANDARD
TZOFFSETFROM:-0400
TZOFFSETTO:-0500
TZNAME:EST
DTSTART:20241103T060000
END:STANDARD
END:VTIMEZONE
BEGIN:VEVENT
DTSTART;VALUE=DATE:20230912
DTEND;VALUE=DATE:20230916
DTSTAMP:20260420T180513
CREATED:20230905T150247Z
LAST-MODIFIED:20230905T150330Z
UID:36067-1694476800-1694822399@www.putneyschool.org
SUMMARY:Enrollment Management Association Conference\, NV
DESCRIPTION:Admission Team Member: John Barrengos
URL:https://www.putneyschool.org/event/enrollment-management-association-conference-nv/
CATEGORIES:Admissions
END:VEVENT
BEGIN:VEVENT
DTSTART;VALUE=DATE:20230915
DTEND;VALUE=DATE:20230916
DTSTAMP:20260420T180513
CREATED:20230214T204148Z
LAST-MODIFIED:20230913T000021Z
UID:32140-1694736000-1694822399@www.putneyschool.org
SUMMARY:Rosh Hashanah
DESCRIPTION:Rosh Hashanah
URL:https://www.putneyschool.org/event/rosh-hashanah/
CATEGORIES:All School Events
END:VEVENT
BEGIN:VEVENT
DTSTART;TZID=America/New_York:20230915T000000
DTEND;TZID=America/New_York:20230915T030000
DTSTAMP:20260420T180513
CREATED:20230905T143440Z
LAST-MODIFIED:20230905T144148Z
UID:36033-1694736000-1694746800@www.putneyschool.org
SUMMARY:TABS (The Association of Boarding Schools) Admissions Fair
DESCRIPTION:Attendees: Educational consultants/agents
URL:https://www.putneyschool.org/event/tabs-the-association-of-boarding-schools-admissions-fair/
LOCATION:Four Seasons Hotel Beijing\, China
CATEGORIES:Admissions
END:VEVENT
BEGIN:VEVENT
DTSTART;TZID=America/New_York:20230915T160000
DTEND;TZID=America/New_York:20230915T160000
DTSTAMP:20260420T180513
CREATED:20230822T231210Z
LAST-MODIFIED:20230905T234320Z
UID:35725-1694793600-1694793600@www.putneyschool.org
SUMMARY:Boys/Open Soccer @ Eagle Hill
DESCRIPTION:Boys/Open Soccer @ Eagle Hill
URL:https://www.putneyschool.org/event/boys-open-soccer-eagle-hill/
LOCATION:Eagle Hill
CATEGORIES:All School Events
END:VEVENT
END:VCALENDAR