BEGIN:VCALENDAR
VERSION:2.0
PRODID:-//The Putney School - ECPv6.15.20//NONSGML v1.0//EN
CALSCALE:GREGORIAN
METHOD:PUBLISH
X-WR-CALNAME:The Putney School
X-ORIGINAL-URL:https://www.putneyschool.org
X-WR-CALDESC:Events for The Putney School
REFRESH-INTERVAL;VALUE=DURATION:PT1H
X-Robots-Tag:noindex
X-PUBLISHED-TTL:PT1H
BEGIN:VTIMEZONE
TZID:America/New_York
BEGIN:DAYLIGHT
TZOFFSETFROM:-0500
TZOFFSETTO:-0400
TZNAME:EDT
DTSTART:20220313T070000
END:DAYLIGHT
BEGIN:STANDARD
TZOFFSETFROM:-0400
TZOFFSETTO:-0500
TZNAME:EST
DTSTART:20221106T060000
END:STANDARD
BEGIN:DAYLIGHT
TZOFFSETFROM:-0500
TZOFFSETTO:-0400
TZNAME:EDT
DTSTART:20230312T070000
END:DAYLIGHT
BEGIN:STANDARD
TZOFFSETFROM:-0400
TZOFFSETTO:-0500
TZNAME:EST
DTSTART:20231105T060000
END:STANDARD
BEGIN:DAYLIGHT
TZOFFSETFROM:-0500
TZOFFSETTO:-0400
TZNAME:EDT
DTSTART:20240310T070000
END:DAYLIGHT
BEGIN:STANDARD
TZOFFSETFROM:-0400
TZOFFSETTO:-0500
TZNAME:EST
DTSTART:20241103T060000
END:STANDARD
END:VTIMEZONE
BEGIN:VEVENT
DTSTART;VALUE=DATE:20230921
DTEND;VALUE=DATE:20230922
DTSTAMP:20260420T082152
CREATED:20230905T151710Z
LAST-MODIFIED:20230905T151710Z
UID:36081-1695254400-1695340799@www.putneyschool.org
SUMMARY:St. Anne's School\, Denver\, CO
DESCRIPTION:Admission Team Member: Todd Dowling
URL:https://www.putneyschool.org/event/st-annes-school-denver-co/
CATEGORIES:Admissions
END:VEVENT
BEGIN:VEVENT
DTSTART;VALUE=DATE:20230921
DTEND;VALUE=DATE:20230922
DTSTAMP:20260420T082152
CREATED:20230905T151757Z
LAST-MODIFIED:20230905T151757Z
UID:36082-1695254400-1695340799@www.putneyschool.org
SUMMARY:The Grammar School\, Putney\, VT
DESCRIPTION:Admission Team Member: John Barrengos
URL:https://www.putneyschool.org/event/the-grammar-school-putney-vt/
CATEGORIES:Admissions
END:VEVENT
BEGIN:VEVENT
DTSTART;TZID=America/New_York:20230921T160000
DTEND;TZID=America/New_York:20230921T160000
DTSTAMP:20260420T082152
CREATED:20230822T231210Z
LAST-MODIFIED:20230920T001414Z
UID:35730-1695312000-1695312000@www.putneyschool.org
SUMMARY:Girls Soccer vs. Four Rivers
DESCRIPTION:Girls Soccer vs. Four Rivers
URL:https://www.putneyschool.org/event/girls-soccer-four-rivers/
LOCATION:Athletic Fields
CATEGORIES:All School Events
END:VEVENT
END:VCALENDAR