BEGIN:VCALENDAR
VERSION:2.0
PRODID:-//The Putney School - ECPv6.15.20//NONSGML v1.0//EN
CALSCALE:GREGORIAN
METHOD:PUBLISH
X-WR-CALNAME:The Putney School
X-ORIGINAL-URL:https://www.putneyschool.org
X-WR-CALDESC:Events for The Putney School
REFRESH-INTERVAL;VALUE=DURATION:PT1H
X-Robots-Tag:noindex
X-PUBLISHED-TTL:PT1H
BEGIN:VTIMEZONE
TZID:America/New_York
BEGIN:DAYLIGHT
TZOFFSETFROM:-0500
TZOFFSETTO:-0400
TZNAME:EDT
DTSTART:20220313T070000
END:DAYLIGHT
BEGIN:STANDARD
TZOFFSETFROM:-0400
TZOFFSETTO:-0500
TZNAME:EST
DTSTART:20221106T060000
END:STANDARD
BEGIN:DAYLIGHT
TZOFFSETFROM:-0500
TZOFFSETTO:-0400
TZNAME:EDT
DTSTART:20230312T070000
END:DAYLIGHT
BEGIN:STANDARD
TZOFFSETFROM:-0400
TZOFFSETTO:-0500
TZNAME:EST
DTSTART:20231105T060000
END:STANDARD
BEGIN:DAYLIGHT
TZOFFSETFROM:-0500
TZOFFSETTO:-0400
TZNAME:EDT
DTSTART:20240310T070000
END:DAYLIGHT
BEGIN:STANDARD
TZOFFSETFROM:-0400
TZOFFSETTO:-0500
TZNAME:EST
DTSTART:20241103T060000
END:STANDARD
END:VTIMEZONE
BEGIN:VEVENT
DTSTART;TZID=America/New_York:20230927T153000
DTEND;TZID=America/New_York:20230927T153000
DTSTAMP:20260420T065251
CREATED:20230822T231211Z
LAST-MODIFIED:20230927T001515Z
UID:35734-1695828600-1695828600@www.putneyschool.org
SUMMARY:Boys/Open Soccer vs. Saint Michaels Catholic School
DESCRIPTION:Boys/Open Soccer vs. Saint Michaels Catholic School
URL:https://www.putneyschool.org/event/boys-open-soccer-saint-michaels-catholic-school/
LOCATION:Athletic Fields
CATEGORIES:All School Events
END:VEVENT
BEGIN:VEVENT
DTSTART;TZID=America/New_York:20230927T153000
DTEND;TZID=America/New_York:20230927T153000
DTSTAMP:20260420T065251
CREATED:20230822T231211Z
LAST-MODIFIED:20230927T001515Z
UID:35735-1695828600-1695828600@www.putneyschool.org
SUMMARY:Girls Soccer vs. Stoneleigh Burnham
DESCRIPTION:Girls Soccer vs. Stoneleigh Burnham
URL:https://www.putneyschool.org/event/girls-soccer-stonely-burnham/
LOCATION:Athletic Fields
CATEGORIES:All School Events
END:VEVENT
BEGIN:VEVENT
DTSTART;TZID=America/New_York:20230927T153000
DTEND;TZID=America/New_York:20230927T153000
DTSTAMP:20260420T065251
CREATED:20230822T231211Z
LAST-MODIFIED:20230927T001515Z
UID:35737-1695828600-1695828600@www.putneyschool.org
SUMMARY:XC Running @ Four Rivers
DESCRIPTION:XC Running @ Four Rivers
URL:https://www.putneyschool.org/event/xc-running-four-rivers/
LOCATION:Four Rivers
CATEGORIES:All School Events
END:VEVENT
END:VCALENDAR