BEGIN:VCALENDAR
VERSION:2.0
PRODID:-//The Putney School - ECPv6.15.20//NONSGML v1.0//EN
CALSCALE:GREGORIAN
METHOD:PUBLISH
X-ORIGINAL-URL:https://www.putneyschool.org
X-WR-CALDESC:Events for The Putney School
REFRESH-INTERVAL;VALUE=DURATION:PT1H
X-Robots-Tag:noindex
X-PUBLISHED-TTL:PT1H
BEGIN:VTIMEZONE
TZID:America/New_York
BEGIN:DAYLIGHT
TZOFFSETFROM:-0500
TZOFFSETTO:-0400
TZNAME:EDT
DTSTART:20220313T070000
END:DAYLIGHT
BEGIN:STANDARD
TZOFFSETFROM:-0400
TZOFFSETTO:-0500
TZNAME:EST
DTSTART:20221106T060000
END:STANDARD
BEGIN:DAYLIGHT
TZOFFSETFROM:-0500
TZOFFSETTO:-0400
TZNAME:EDT
DTSTART:20230312T070000
END:DAYLIGHT
BEGIN:STANDARD
TZOFFSETFROM:-0400
TZOFFSETTO:-0500
TZNAME:EST
DTSTART:20231105T060000
END:STANDARD
BEGIN:DAYLIGHT
TZOFFSETFROM:-0500
TZOFFSETTO:-0400
TZNAME:EDT
DTSTART:20240310T070000
END:DAYLIGHT
BEGIN:STANDARD
TZOFFSETFROM:-0400
TZOFFSETTO:-0500
TZNAME:EST
DTSTART:20241103T060000
END:STANDARD
END:VTIMEZONE
BEGIN:VEVENT
DTSTART;VALUE=DATE:20231021
DTEND;VALUE=DATE:20231022
DTSTAMP:20260420T051753
CREATED:20230214T204152Z
LAST-MODIFIED:20231018T004044Z
UID:32154-1697846400-1697932799@www.putneyschool.org
SUMMARY:Trustee Meeting (campus)
DESCRIPTION:Trustee Meeting (campus)
URL:https://www.putneyschool.org/event/trustee-meeting-campus-5/
CATEGORIES:All School Events
END:VEVENT
BEGIN:VEVENT
DTSTART;VALUE=DATE:20231021
DTEND;VALUE=DATE:20231022
DTSTAMP:20260420T051753
CREATED:20230905T153823Z
LAST-MODIFIED:20230905T153823Z
UID:36104-1697846400-1697932799@www.putneyschool.org
SUMMARY:Black Parents Forum Virtual School Fair
DESCRIPTION:Admission Team Member: Paolo Woodard
URL:https://www.putneyschool.org/event/black-parents-forum-virtual-school-fair/
CATEGORIES:Admissions
END:VEVENT
BEGIN:VEVENT
DTSTART;TZID=America/New_York:20231021T130000
DTEND;TZID=America/New_York:20231021T130000
DTSTAMP:20260420T051753
CREATED:20230822T231218Z
LAST-MODIFIED:20231018T004044Z
UID:35755-1697893200-1697893200@www.putneyschool.org
SUMMARY:Girls Soccer @ Stoneleigh Burnham
DESCRIPTION:Girls Soccer @ Stoneleigh Burnham
URL:https://www.putneyschool.org/event/girls-soccer-stonely-burnham-2/
LOCATION:Stonely Burnham School
CATEGORIES:All School Events
END:VEVENT
BEGIN:VEVENT
DTSTART;TZID=America/New_York:20231021T140000
DTEND;TZID=America/New_York:20231021T140000
DTSTAMP:20260420T051753
CREATED:20230822T231218Z
LAST-MODIFIED:20231018T004044Z
UID:35757-1697896800-1697896800@www.putneyschool.org
SUMMARY:Boys/Open Soccer @ VA JV
DESCRIPTION:Boys/Open Soccer @ VA JV
URL:https://www.putneyschool.org/event/boys-open-soccer-va-jv/
LOCATION:VA
CATEGORIES:All School Events
END:VEVENT
BEGIN:VEVENT
DTSTART;VALUE=DATE:20231022
DTEND;VALUE=DATE:20231023
DTSTAMP:20260420T051753
CREATED:20230214T204152Z
LAST-MODIFIED:20231018T004045Z
UID:32155-1697932800-1698019199@www.putneyschool.org
SUMMARY:Trustee Meeting (campus)
DESCRIPTION:Trustee Meeting (campus)
URL:https://www.putneyschool.org/event/trustee-meeting-campus-6/
CATEGORIES:All School Events
END:VEVENT
END:VCALENDAR