BEGIN:VCALENDAR
VERSION:2.0
PRODID:-//The Putney School - ECPv6.15.20//NONSGML v1.0//EN
CALSCALE:GREGORIAN
METHOD:PUBLISH
X-WR-CALNAME:The Putney School
X-ORIGINAL-URL:https://www.putneyschool.org
X-WR-CALDESC:Events for The Putney School
REFRESH-INTERVAL;VALUE=DURATION:PT1H
X-Robots-Tag:noindex
X-PUBLISHED-TTL:PT1H
BEGIN:VTIMEZONE
TZID:America/New_York
BEGIN:DAYLIGHT
TZOFFSETFROM:-0500
TZOFFSETTO:-0400
TZNAME:EDT
DTSTART:20230312T070000
END:DAYLIGHT
BEGIN:STANDARD
TZOFFSETFROM:-0400
TZOFFSETTO:-0500
TZNAME:EST
DTSTART:20231105T060000
END:STANDARD
BEGIN:DAYLIGHT
TZOFFSETFROM:-0500
TZOFFSETTO:-0400
TZNAME:EDT
DTSTART:20240310T070000
END:DAYLIGHT
BEGIN:STANDARD
TZOFFSETFROM:-0400
TZOFFSETTO:-0500
TZNAME:EST
DTSTART:20241103T060000
END:STANDARD
BEGIN:DAYLIGHT
TZOFFSETFROM:-0500
TZOFFSETTO:-0400
TZNAME:EDT
DTSTART:20250309T070000
END:DAYLIGHT
BEGIN:STANDARD
TZOFFSETFROM:-0400
TZOFFSETTO:-0500
TZNAME:EST
DTSTART:20251102T060000
END:STANDARD
END:VTIMEZONE
BEGIN:VEVENT
DTSTART;VALUE=DATE:20240117
DTEND;VALUE=DATE:20240118
DTSTAMP:20260422T192902
CREATED:20231108T010001Z
LAST-MODIFIED:20240110T021116Z
UID:37809-1705449600-1705535999@www.putneyschool.org
SUMMARY:xc skiing @ Proctor 2:45
DESCRIPTION:xc skiing @ Proctor 2:45
URL:https://www.putneyschool.org/event/xc-skiing-proctor-245/
CATEGORIES:All School Events
END:VEVENT
BEGIN:VEVENT
DTSTART;VALUE=DATE:20240117
DTEND;VALUE=DATE:20240118
DTSTAMP:20260422T192902
CREATED:20240110T021116Z
LAST-MODIFIED:20240110T021116Z
UID:38615-1705449600-1705535999@www.putneyschool.org
SUMMARY:Girls Basketball @ Eagle Hill 3:30
DESCRIPTION:Girls Basketball @ Eagle Hill 3:30
URL:https://www.putneyschool.org/event/girls-basketball-eagle-hill-330/
CATEGORIES:All School Events
END:VEVENT
BEGIN:VEVENT
DTSTART;VALUE=DATE:20240117
DTEND;VALUE=DATE:20240118
DTSTAMP:20260422T192902
CREATED:20240110T021116Z
LAST-MODIFIED:20240110T021116Z
UID:38616-1705449600-1705535999@www.putneyschool.org
SUMMARY:Open Basketball vs Four Rivers 3pm
DESCRIPTION:Open Basketball vs Four Rivers 3pm
URL:https://www.putneyschool.org/event/open-basketball-vs-four-rivers-3pm/
LOCATION:East Court Gym\, Field House
CATEGORIES:All School Events
END:VEVENT
BEGIN:VEVENT
DTSTART;TZID=America/New_York:20240117T081500
DTEND;TZID=America/New_York:20240117T091500
DTSTAMP:20260422T192902
CREATED:20240116T125828Z
LAST-MODIFIED:20240118T212619Z
UID:38740-1705479300-1705482900@www.putneyschool.org
SUMMARY:Virtual Coffee Hour with Putney's Admission Director: 1/17 @ 8:15 a.m.
DESCRIPTION:Join Admission Director John Barrengos for an informal gathering for prospective parents and students to learn about The Putney School\, the admission process and the high school search in general. \nJoin Zoom Coffee Hour
URL:https://www.putneyschool.org/event/virtual-coffee-hour-with-putneys-admission-director/
CATEGORIES:Admissions
ATTACH;FMTTYPE=image/jpeg:
END:VEVENT
END:VCALENDAR