BEGIN:VCALENDAR
VERSION:2.0
PRODID:-//The Putney School - ECPv6.15.20//NONSGML v1.0//EN
CALSCALE:GREGORIAN
METHOD:PUBLISH
X-WR-CALNAME:The Putney School
X-ORIGINAL-URL:https://www.putneyschool.org
X-WR-CALDESC:Events for The Putney School
REFRESH-INTERVAL;VALUE=DURATION:PT1H
X-Robots-Tag:noindex
X-PUBLISHED-TTL:PT1H
BEGIN:VTIMEZONE
TZID:America/New_York
BEGIN:DAYLIGHT
TZOFFSETFROM:-0500
TZOFFSETTO:-0400
TZNAME:EDT
DTSTART:20230312T070000
END:DAYLIGHT
BEGIN:STANDARD
TZOFFSETFROM:-0400
TZOFFSETTO:-0500
TZNAME:EST
DTSTART:20231105T060000
END:STANDARD
BEGIN:DAYLIGHT
TZOFFSETFROM:-0500
TZOFFSETTO:-0400
TZNAME:EDT
DTSTART:20240310T070000
END:DAYLIGHT
BEGIN:STANDARD
TZOFFSETFROM:-0400
TZOFFSETTO:-0500
TZNAME:EST
DTSTART:20241103T060000
END:STANDARD
BEGIN:DAYLIGHT
TZOFFSETFROM:-0500
TZOFFSETTO:-0400
TZNAME:EDT
DTSTART:20250309T070000
END:DAYLIGHT
BEGIN:STANDARD
TZOFFSETFROM:-0400
TZOFFSETTO:-0500
TZNAME:EST
DTSTART:20251102T060000
END:STANDARD
END:VTIMEZONE
BEGIN:VEVENT
DTSTART;VALUE=DATE:20240124
DTEND;VALUE=DATE:20240125
DTSTAMP:20260425T114231
CREATED:20231108T010001Z
LAST-MODIFIED:20240117T021400Z
UID:37810-1706054400-1706140799@www.putneyschool.org
SUMMARY:XC Skiing Home! (Dublin backup)2:45
DESCRIPTION:XC Skiing Home! (Dublin backup)2:45
URL:https://www.putneyschool.org/event/xc-skiing-home-dublin-backup245/
CATEGORIES:All School Events
END:VEVENT
BEGIN:VEVENT
DTSTART;VALUE=DATE:20240124
DTEND;VALUE=DATE:20240125
DTSTAMP:20260425T114231
CREATED:20240110T021117Z
LAST-MODIFIED:20240117T021400Z
UID:38618-1706054400-1706140799@www.putneyschool.org
SUMMARY:Open Basketball @ Eagle Hill 3:30
DESCRIPTION:Open Basketball @ Eagle Hill 3:30
URL:https://www.putneyschool.org/event/open-basketball-eagle-hill-330/
CATEGORIES:All School Events
END:VEVENT
BEGIN:VEVENT
DTSTART;TZID=America/New_York:20240124T081500
DTEND;TZID=America/New_York:20240124T091500
DTSTAMP:20260425T114231
CREATED:20240116T130325Z
LAST-MODIFIED:20240124T195420Z
UID:38747-1706084100-1706087700@www.putneyschool.org
SUMMARY:Virtual Coffee Hour with Putney’s Admission Director: 1/24 @ 8:15 a.m.
DESCRIPTION:Join Admission Director John Barrengos for an informal gathering for prospective parents and students to learn about The Putney School\, the admission process and the high school search in general. \nJoin Zoom Coffee Hour
URL:https://www.putneyschool.org/event/virtual-coffee-with-putneys-admission-department/
CATEGORIES:Admissions
ATTACH;FMTTYPE=image/jpeg:
END:VEVENT
END:VCALENDAR