BEGIN:VCALENDAR
VERSION:2.0
PRODID:-//The Putney School - ECPv6.15.20//NONSGML v1.0//EN
CALSCALE:GREGORIAN
METHOD:PUBLISH
X-WR-CALNAME:The Putney School
X-ORIGINAL-URL:https://www.putneyschool.org
X-WR-CALDESC:Events for The Putney School
REFRESH-INTERVAL;VALUE=DURATION:PT1H
X-Robots-Tag:noindex
X-PUBLISHED-TTL:PT1H
BEGIN:VTIMEZONE
TZID:America/New_York
BEGIN:DAYLIGHT
TZOFFSETFROM:-0500
TZOFFSETTO:-0400
TZNAME:EDT
DTSTART:20230312T070000
END:DAYLIGHT
BEGIN:STANDARD
TZOFFSETFROM:-0400
TZOFFSETTO:-0500
TZNAME:EST
DTSTART:20231105T060000
END:STANDARD
BEGIN:DAYLIGHT
TZOFFSETFROM:-0500
TZOFFSETTO:-0400
TZNAME:EDT
DTSTART:20240310T070000
END:DAYLIGHT
BEGIN:STANDARD
TZOFFSETFROM:-0400
TZOFFSETTO:-0500
TZNAME:EST
DTSTART:20241103T060000
END:STANDARD
BEGIN:DAYLIGHT
TZOFFSETFROM:-0500
TZOFFSETTO:-0400
TZNAME:EDT
DTSTART:20250309T070000
END:DAYLIGHT
BEGIN:STANDARD
TZOFFSETFROM:-0400
TZOFFSETTO:-0500
TZNAME:EST
DTSTART:20251102T060000
END:STANDARD
END:VTIMEZONE
BEGIN:VEVENT
DTSTART;TZID=America/New_York:20240125T151000
DTEND;TZID=America/New_York:20240125T180000
DTSTAMP:20260425T114221
CREATED:20240124T022829Z
LAST-MODIFIED:20240124T022829Z
UID:39017-1706195400-1706205600@www.putneyschool.org
SUMMARY:Girls basketball @ SBS 4:15
DESCRIPTION:Girls basketball @ SBS 4:15
URL:https://www.putneyschool.org/event/girls-basketball-sbs-415/
LOCATION:Stoneleigh-Burnham School
CATEGORIES:All School Events
END:VEVENT
BEGIN:VEVENT
DTSTART;TZID=America/New_York:20240125T160000
DTEND;TZID=America/New_York:20240125T180000
DTSTAMP:20260425T114221
CREATED:20240110T021117Z
LAST-MODIFIED:20240124T022829Z
UID:38619-1706198400-1706205600@www.putneyschool.org
SUMMARY:Open Basketball vs BART 4pm
DESCRIPTION:Open Basketball vs BART 4pm
URL:https://www.putneyschool.org/event/open-basketball-vs-bart-4pm/
CATEGORIES:All School Events
END:VEVENT
END:VCALENDAR