BEGIN:VCALENDAR
VERSION:2.0
PRODID:-//The Putney School - ECPv6.15.20//NONSGML v1.0//EN
CALSCALE:GREGORIAN
METHOD:PUBLISH
X-ORIGINAL-URL:https://www.putneyschool.org
X-WR-CALDESC:Events for The Putney School
REFRESH-INTERVAL;VALUE=DURATION:PT1H
X-Robots-Tag:noindex
X-PUBLISHED-TTL:PT1H
BEGIN:VTIMEZONE
TZID:America/New_York
BEGIN:DAYLIGHT
TZOFFSETFROM:-0500
TZOFFSETTO:-0400
TZNAME:EDT
DTSTART:20230312T070000
END:DAYLIGHT
BEGIN:STANDARD
TZOFFSETFROM:-0400
TZOFFSETTO:-0500
TZNAME:EST
DTSTART:20231105T060000
END:STANDARD
BEGIN:DAYLIGHT
TZOFFSETFROM:-0500
TZOFFSETTO:-0400
TZNAME:EDT
DTSTART:20240310T070000
END:DAYLIGHT
BEGIN:STANDARD
TZOFFSETFROM:-0400
TZOFFSETTO:-0500
TZNAME:EST
DTSTART:20241103T060000
END:STANDARD
BEGIN:DAYLIGHT
TZOFFSETFROM:-0500
TZOFFSETTO:-0400
TZNAME:EDT
DTSTART:20250309T070000
END:DAYLIGHT
BEGIN:STANDARD
TZOFFSETFROM:-0400
TZOFFSETTO:-0500
TZNAME:EST
DTSTART:20251102T060000
END:STANDARD
END:VTIMEZONE
BEGIN:VEVENT
DTSTART;VALUE=DATE:20240204
DTEND;VALUE=DATE:20240205
DTSTAMP:20260424T100657
CREATED:20230711T222809Z
LAST-MODIFIED:20240131T023013Z
UID:35003-1707004800-1707091199@www.putneyschool.org
SUMMARY:Mid Winter Long Weekend
DESCRIPTION:Mid Winter Long Weekend
URL:https://www.putneyschool.org/event/mid-winter-long-weekend-3/
CATEGORIES:All School Events
END:VEVENT
BEGIN:VEVENT
DTSTART;VALUE=DATE:20240205
DTEND;VALUE=DATE:20240206
DTSTAMP:20260424T100657
CREATED:20230214T204205Z
LAST-MODIFIED:20240117T021401Z
UID:32202-1707091200-1707177599@www.putneyschool.org
SUMMARY:Mid-Winter Long Weekend\, no classes\, dorms open
DESCRIPTION:Mid-Winter Long Weekend\, no classes\, dorms open
URL:https://www.putneyschool.org/event/mid-winter-long-weekend-no-classes-dorms-open-2/
CATEGORIES:All School Events
END:VEVENT
BEGIN:VEVENT
DTSTART;VALUE=DATE:20240205
DTEND;VALUE=DATE:20240206
DTSTAMP:20260424T100657
CREATED:20240124T022830Z
LAST-MODIFIED:20240131T023013Z
UID:39019-1707091200-1707177599@www.putneyschool.org
SUMMARY:Mid-Winter Long Weekend\, no classes\, dorms open
DESCRIPTION:Mid-Winter Long Weekend\, no classes\, dorms open
URL:https://www.putneyschool.org/event/mid-winter-long-weekend-no-classes-dorms-open-4/
CATEGORIES:All School Events
END:VEVENT
END:VCALENDAR