BEGIN:VCALENDAR
VERSION:2.0
PRODID:-//The Putney School - ECPv6.15.20//NONSGML v1.0//EN
CALSCALE:GREGORIAN
METHOD:PUBLISH
X-WR-CALNAME:The Putney School
X-ORIGINAL-URL:https://www.putneyschool.org
X-WR-CALDESC:Events for The Putney School
REFRESH-INTERVAL;VALUE=DURATION:PT1H
X-Robots-Tag:noindex
X-PUBLISHED-TTL:PT1H
BEGIN:VTIMEZONE
TZID:America/New_York
BEGIN:DAYLIGHT
TZOFFSETFROM:-0500
TZOFFSETTO:-0400
TZNAME:EDT
DTSTART:20230312T070000
END:DAYLIGHT
BEGIN:STANDARD
TZOFFSETFROM:-0400
TZOFFSETTO:-0500
TZNAME:EST
DTSTART:20231105T060000
END:STANDARD
BEGIN:DAYLIGHT
TZOFFSETFROM:-0500
TZOFFSETTO:-0400
TZNAME:EDT
DTSTART:20240310T070000
END:DAYLIGHT
BEGIN:STANDARD
TZOFFSETFROM:-0400
TZOFFSETTO:-0500
TZNAME:EST
DTSTART:20241103T060000
END:STANDARD
BEGIN:DAYLIGHT
TZOFFSETFROM:-0500
TZOFFSETTO:-0400
TZNAME:EDT
DTSTART:20250309T070000
END:DAYLIGHT
BEGIN:STANDARD
TZOFFSETFROM:-0400
TZOFFSETTO:-0500
TZNAME:EST
DTSTART:20251102T060000
END:STANDARD
END:VTIMEZONE
BEGIN:VEVENT
DTSTART;VALUE=DATE:20240207
DTEND;VALUE=DATE:20240208
DTSTAMP:20260424T113509
CREATED:20231108T010002Z
LAST-MODIFIED:20240131T023014Z
UID:37812-1707264000-1707350399@www.putneyschool.org
SUMMARY:xc skiing @ Green Woodlands 2:45
DESCRIPTION:xc skiing @ Green Woodlands 2:45
URL:https://www.putneyschool.org/event/xc-skiing-green-woodlands-245/
CATEGORIES:All School Events
END:VEVENT
BEGIN:VEVENT
DTSTART;VALUE=DATE:20240207
DTEND;VALUE=DATE:20240208
DTSTAMP:20260424T113509
CREATED:20240110T021119Z
LAST-MODIFIED:20240131T023013Z
UID:38625-1707264000-1707350399@www.putneyschool.org
SUMMARY:Girls Basketball vs High Mowing 3pm
DESCRIPTION:Girls Basketball vs High Mowing 3pm
URL:https://www.putneyschool.org/event/girls-basketball-vs-high-mowing-3pm/
CATEGORIES:All School Events
END:VEVENT
BEGIN:VEVENT
DTSTART;TZID=America/New_York:20240207T081500
DTEND;TZID=America/New_York:20240207T091500
DTSTAMP:20260424T113509
CREATED:20240116T131522Z
LAST-MODIFIED:20240208T161447Z
UID:38755-1707293700-1707297300@www.putneyschool.org
SUMMARY:Virtual Coffee With Putney's Admission Director 2/7 @ 8:15 a.m.
DESCRIPTION:Join Admission Director John Barrengos for an informal gathering for prospective parents and students to learn about The Putney School\, the admission process and the high school search in general. \nJoin Zoom Coffee Hour
URL:https://www.putneyschool.org/event/virtual-coffee-with-putneys-admission-director-14/
CATEGORIES:Admissions
ATTACH;FMTTYPE=image/jpeg:
END:VEVENT
BEGIN:VEVENT
DTSTART;VALUE=DATE:20240208
DTEND;VALUE=DATE:20240209
DTSTAMP:20260424T113509
CREATED:20240110T021119Z
LAST-MODIFIED:20240207T024103Z
UID:38627-1707350400-1707436799@www.putneyschool.org
SUMMARY:Girls Basketball vs Eagle Hill 4pm
DESCRIPTION:Girls Basketball vs Eagle Hill 4pm
URL:https://www.putneyschool.org/event/girls-basketball-vs-eagle-hill-4pm/
LOCATION:Field House Gym (Full Court)
CATEGORIES:All School Events
END:VEVENT
END:VCALENDAR