BEGIN:VCALENDAR
VERSION:2.0
PRODID:-//The Putney School - ECPv6.15.20//NONSGML v1.0//EN
CALSCALE:GREGORIAN
METHOD:PUBLISH
X-ORIGINAL-URL:https://www.putneyschool.org
X-WR-CALDESC:Events for The Putney School
REFRESH-INTERVAL;VALUE=DURATION:PT1H
X-Robots-Tag:noindex
X-PUBLISHED-TTL:PT1H
BEGIN:VTIMEZONE
TZID:America/New_York
BEGIN:DAYLIGHT
TZOFFSETFROM:-0500
TZOFFSETTO:-0400
TZNAME:EDT
DTSTART:20230312T070000
END:DAYLIGHT
BEGIN:STANDARD
TZOFFSETFROM:-0400
TZOFFSETTO:-0500
TZNAME:EST
DTSTART:20231105T060000
END:STANDARD
BEGIN:DAYLIGHT
TZOFFSETFROM:-0500
TZOFFSETTO:-0400
TZNAME:EDT
DTSTART:20240310T070000
END:DAYLIGHT
BEGIN:STANDARD
TZOFFSETFROM:-0400
TZOFFSETTO:-0500
TZNAME:EST
DTSTART:20241103T060000
END:STANDARD
BEGIN:DAYLIGHT
TZOFFSETFROM:-0500
TZOFFSETTO:-0400
TZNAME:EDT
DTSTART:20250309T070000
END:DAYLIGHT
BEGIN:STANDARD
TZOFFSETFROM:-0400
TZOFFSETTO:-0500
TZNAME:EST
DTSTART:20251102T060000
END:STANDARD
END:VTIMEZONE
BEGIN:VEVENT
DTSTART;VALUE=DATE:20240706
DTEND;VALUE=DATE:20240707
DTSTAMP:20260420T112758
CREATED:20230214T204219Z
LAST-MODIFIED:20240620T164127Z
UID:32258-1720224000-1720310399@www.putneyschool.org
SUMMARY:Summer Program
DESCRIPTION:Summer Program
URL:https://www.putneyschool.org/event/summer-program-7/
CATEGORIES:All School Events
END:VEVENT
BEGIN:VEVENT
DTSTART;VALUE=DATE:20240706
DTEND;VALUE=DATE:20240707
DTSTAMP:20260420T112758
CREATED:20240627T164334Z
LAST-MODIFIED:20240704T165833Z
UID:42395-1720224000-1720310399@www.putneyschool.org
SUMMARY:Summer Program
DESCRIPTION:Summer Program
URL:https://www.putneyschool.org/event/summer-program-33/
CATEGORIES:All School Events
END:VEVENT
BEGIN:VEVENT
DTSTART;VALUE=DATE:20240707
DTEND;VALUE=DATE:20240708
DTSTAMP:20260420T112758
CREATED:20230214T204220Z
LAST-MODIFIED:20240620T164127Z
UID:32259-1720310400-1720396799@www.putneyschool.org
SUMMARY:Summer Program
DESCRIPTION:Summer Program
URL:https://www.putneyschool.org/event/summer-program-8/
CATEGORIES:All School Events
END:VEVENT
BEGIN:VEVENT
DTSTART;VALUE=DATE:20240707
DTEND;VALUE=DATE:20240708
DTSTAMP:20260420T112758
CREATED:20240627T164334Z
LAST-MODIFIED:20240704T165833Z
UID:42396-1720310400-1720396799@www.putneyschool.org
SUMMARY:Summer Program
DESCRIPTION:Summer Program
URL:https://www.putneyschool.org/event/summer-program-34/
CATEGORIES:All School Events
END:VEVENT
END:VCALENDAR