BEGIN:VCALENDAR
VERSION:2.0
PRODID:-//The Putney School - ECPv6.15.20//NONSGML v1.0//EN
CALSCALE:GREGORIAN
METHOD:PUBLISH
X-WR-CALNAME:The Putney School
X-ORIGINAL-URL:https://www.putneyschool.org
X-WR-CALDESC:Events for The Putney School
REFRESH-INTERVAL;VALUE=DURATION:PT1H
X-Robots-Tag:noindex
X-PUBLISHED-TTL:PT1H
BEGIN:VTIMEZONE
TZID:America/New_York
BEGIN:DAYLIGHT
TZOFFSETFROM:-0500
TZOFFSETTO:-0400
TZNAME:EDT
DTSTART:20230312T070000
END:DAYLIGHT
BEGIN:STANDARD
TZOFFSETFROM:-0400
TZOFFSETTO:-0500
TZNAME:EST
DTSTART:20231105T060000
END:STANDARD
BEGIN:DAYLIGHT
TZOFFSETFROM:-0500
TZOFFSETTO:-0400
TZNAME:EDT
DTSTART:20240310T070000
END:DAYLIGHT
BEGIN:STANDARD
TZOFFSETFROM:-0400
TZOFFSETTO:-0500
TZNAME:EST
DTSTART:20241103T060000
END:STANDARD
BEGIN:DAYLIGHT
TZOFFSETFROM:-0500
TZOFFSETTO:-0400
TZNAME:EDT
DTSTART:20250309T070000
END:DAYLIGHT
BEGIN:STANDARD
TZOFFSETFROM:-0400
TZOFFSETTO:-0500
TZNAME:EST
DTSTART:20251102T060000
END:STANDARD
END:VTIMEZONE
BEGIN:VEVENT
DTSTART;VALUE=DATE:20240714
DTEND;VALUE=DATE:20240715
DTSTAMP:20260422T144643
CREATED:20230214T204238Z
LAST-MODIFIED:20240620T164127Z
UID:32266-1720915200-1721001599@www.putneyschool.org
SUMMARY:Summer Program
DESCRIPTION:Summer Program
URL:https://www.putneyschool.org/event/summer-program-15/
CATEGORIES:All School Events
END:VEVENT
BEGIN:VEVENT
DTSTART;VALUE=DATE:20240714
DTEND;VALUE=DATE:20240715
DTSTAMP:20260422T144643
CREATED:20240627T164335Z
LAST-MODIFIED:20240711T171327Z
UID:42403-1720915200-1721001599@www.putneyschool.org
SUMMARY:Summer Program
DESCRIPTION:Summer Program
URL:https://www.putneyschool.org/event/summer-program-41/
CATEGORIES:All School Events
END:VEVENT
BEGIN:VEVENT
DTSTART;VALUE=DATE:20240715
DTEND;VALUE=DATE:20240716
DTSTAMP:20260422T144643
CREATED:20230214T204238Z
LAST-MODIFIED:20240620T164128Z
UID:32267-1721001600-1721087999@www.putneyschool.org
SUMMARY:Summer Program
DESCRIPTION:Summer Program
URL:https://www.putneyschool.org/event/summer-program-16/
CATEGORIES:All School Events
END:VEVENT
BEGIN:VEVENT
DTSTART;VALUE=DATE:20240715
DTEND;VALUE=DATE:20240716
DTSTAMP:20260422T144643
CREATED:20240627T164336Z
LAST-MODIFIED:20240711T171327Z
UID:42404-1721001600-1721087999@www.putneyschool.org
SUMMARY:Summer Program
DESCRIPTION:Summer Program
URL:https://www.putneyschool.org/event/summer-program-42/
CATEGORIES:All School Events
END:VEVENT
END:VCALENDAR