BEGIN:VCALENDAR
VERSION:2.0
PRODID:-//The Putney School - ECPv6.15.20//NONSGML v1.0//EN
CALSCALE:GREGORIAN
METHOD:PUBLISH
X-ORIGINAL-URL:https://www.putneyschool.org
X-WR-CALDESC:Events for The Putney School
REFRESH-INTERVAL;VALUE=DURATION:PT1H
X-Robots-Tag:noindex
X-PUBLISHED-TTL:PT1H
BEGIN:VTIMEZONE
TZID:America/New_York
BEGIN:DAYLIGHT
TZOFFSETFROM:-0500
TZOFFSETTO:-0400
TZNAME:EDT
DTSTART:20230312T070000
END:DAYLIGHT
BEGIN:STANDARD
TZOFFSETFROM:-0400
TZOFFSETTO:-0500
TZNAME:EST
DTSTART:20231105T060000
END:STANDARD
BEGIN:DAYLIGHT
TZOFFSETFROM:-0500
TZOFFSETTO:-0400
TZNAME:EDT
DTSTART:20240310T070000
END:DAYLIGHT
BEGIN:STANDARD
TZOFFSETFROM:-0400
TZOFFSETTO:-0500
TZNAME:EST
DTSTART:20241103T060000
END:STANDARD
BEGIN:DAYLIGHT
TZOFFSETFROM:-0500
TZOFFSETTO:-0400
TZNAME:EDT
DTSTART:20250309T070000
END:DAYLIGHT
BEGIN:STANDARD
TZOFFSETFROM:-0400
TZOFFSETTO:-0500
TZNAME:EST
DTSTART:20251102T060000
END:STANDARD
END:VTIMEZONE
BEGIN:VEVENT
DTSTART;VALUE=DATE:20241011
DTEND;VALUE=DATE:20241012
DTSTAMP:20260424T162035
CREATED:20240711T171320Z
LAST-MODIFIED:20241010T194248Z
UID:42559-1728604800-1728691199@www.putneyschool.org
SUMMARY:No School
DESCRIPTION:No School
URL:https://www.putneyschool.org/event/no-school-5/
CATEGORIES:All School Events
END:VEVENT
BEGIN:VEVENT
DTSTART;VALUE=DATE:20241011
DTEND;VALUE=DATE:20241012
DTSTAMP:20260424T162035
CREATED:20240725T174550Z
LAST-MODIFIED:20241010T194248Z
UID:43515-1728604800-1728691199@www.putneyschool.org
SUMMARY:Yom Kippur beg
DESCRIPTION:Yom Kippur beg
URL:https://www.putneyschool.org/event/yom-kippur-beg/
CATEGORIES:All School Events
END:VEVENT
BEGIN:VEVENT
DTSTART;VALUE=DATE:20241012
DTEND;VALUE=DATE:20241013
DTSTAMP:20260424T162035
CREATED:20240711T171320Z
LAST-MODIFIED:20241010T194249Z
UID:42560-1728691200-1728777599@www.putneyschool.org
SUMMARY:No School
DESCRIPTION:No School
URL:https://www.putneyschool.org/event/no-school-6/
CATEGORIES:All School Events
END:VEVENT
BEGIN:VEVENT
DTSTART;VALUE=DATE:20241012
DTEND;VALUE=DATE:20241013
DTSTAMP:20260424T162035
CREATED:20240725T174550Z
LAST-MODIFIED:20241010T194248Z
UID:43516-1728691200-1728777599@www.putneyschool.org
SUMMARY:Yom kippur end
DESCRIPTION:Yom kippur end
URL:https://www.putneyschool.org/event/yom-kippur-end/
CATEGORIES:All School Events
END:VEVENT
END:VCALENDAR