BEGIN:VCALENDAR
VERSION:2.0
PRODID:-//The Putney School - ECPv6.15.20//NONSGML v1.0//EN
CALSCALE:GREGORIAN
METHOD:PUBLISH
X-ORIGINAL-URL:https://www.putneyschool.org
X-WR-CALDESC:Events for The Putney School
REFRESH-INTERVAL;VALUE=DURATION:PT1H
X-Robots-Tag:noindex
X-PUBLISHED-TTL:PT1H
BEGIN:VTIMEZONE
TZID:America/New_York
BEGIN:DAYLIGHT
TZOFFSETFROM:-0500
TZOFFSETTO:-0400
TZNAME:EDT
DTSTART:20230312T070000
END:DAYLIGHT
BEGIN:STANDARD
TZOFFSETFROM:-0400
TZOFFSETTO:-0500
TZNAME:EST
DTSTART:20231105T060000
END:STANDARD
BEGIN:DAYLIGHT
TZOFFSETFROM:-0500
TZOFFSETTO:-0400
TZNAME:EDT
DTSTART:20240310T070000
END:DAYLIGHT
BEGIN:STANDARD
TZOFFSETFROM:-0400
TZOFFSETTO:-0500
TZNAME:EST
DTSTART:20241103T060000
END:STANDARD
BEGIN:DAYLIGHT
TZOFFSETFROM:-0500
TZOFFSETTO:-0400
TZNAME:EDT
DTSTART:20250309T070000
END:DAYLIGHT
BEGIN:STANDARD
TZOFFSETFROM:-0400
TZOFFSETTO:-0500
TZNAME:EST
DTSTART:20251102T060000
END:STANDARD
END:VTIMEZONE
BEGIN:VEVENT
DTSTART;TZID=America/New_York:20241023T143000
DTEND;TZID=America/New_York:20241023T143000
DTSTAMP:20260424T200808
CREATED:20240822T182653Z
LAST-MODIFIED:20241017T195751Z
UID:44821-1729693800-1729693800@www.putneyschool.org
SUMMARY:Girls @ Four Rivers
DESCRIPTION:Girls @ Four Rivers
URL:https://www.putneyschool.org/event/girls-four-rivers/
CATEGORIES:All School Events
END:VEVENT
BEGIN:VEVENT
DTSTART;TZID=America/New_York:20241023T153000
DTEND;TZID=America/New_York:20241023T153000
DTSTAMP:20260424T200808
CREATED:20240822T182653Z
LAST-MODIFIED:20241017T195751Z
UID:44822-1729697400-1729697400@www.putneyschool.org
SUMMARY:XC @ Charlemont
DESCRIPTION:XC @ Charlemont
URL:https://www.putneyschool.org/event/xc-charlemont-2/
CATEGORIES:All School Events
END:VEVENT
BEGIN:VEVENT
DTSTART;TZID=America/New_York:20241023T160000
DTEND;TZID=America/New_York:20241023T160000
DTSTAMP:20260424T200808
CREATED:20240822T182653Z
LAST-MODIFIED:20241017T195751Z
UID:44823-1729699200-1729699200@www.putneyschool.org
SUMMARY:Open @PVPA
DESCRIPTION:Open @PVPA
URL:https://www.putneyschool.org/event/open-pvpa/
CATEGORIES:All School Events
END:VEVENT
END:VCALENDAR