BEGIN:VCALENDAR
VERSION:2.0
PRODID:-//The Putney School - ECPv6.15.20//NONSGML v1.0//EN
CALSCALE:GREGORIAN
METHOD:PUBLISH
X-WR-CALNAME:The Putney School
X-ORIGINAL-URL:https://www.putneyschool.org
X-WR-CALDESC:Events for The Putney School
REFRESH-INTERVAL;VALUE=DURATION:PT1H
X-Robots-Tag:noindex
X-PUBLISHED-TTL:PT1H
BEGIN:VTIMEZONE
TZID:America/New_York
BEGIN:DAYLIGHT
TZOFFSETFROM:-0500
TZOFFSETTO:-0400
TZNAME:EDT
DTSTART:20190310T070000
END:DAYLIGHT
BEGIN:STANDARD
TZOFFSETFROM:-0400
TZOFFSETTO:-0500
TZNAME:EST
DTSTART:20191103T060000
END:STANDARD
BEGIN:DAYLIGHT
TZOFFSETFROM:-0500
TZOFFSETTO:-0400
TZNAME:EDT
DTSTART:20200308T070000
END:DAYLIGHT
BEGIN:STANDARD
TZOFFSETFROM:-0400
TZOFFSETTO:-0500
TZNAME:EST
DTSTART:20201101T060000
END:STANDARD
BEGIN:DAYLIGHT
TZOFFSETFROM:-0500
TZOFFSETTO:-0400
TZNAME:EDT
DTSTART:20210314T070000
END:DAYLIGHT
BEGIN:STANDARD
TZOFFSETFROM:-0400
TZOFFSETTO:-0500
TZNAME:EST
DTSTART:20211107T060000
END:STANDARD
END:VTIMEZONE
BEGIN:VEVENT
DTSTART;TZID=America/New_York:20200120T163000
DTEND;TZID=America/New_York:20200120T163000
DTSTAMP:20260420T142952
CREATED:20191228T183619Z
LAST-MODIFIED:20200116T205029Z
UID:7801-1579537800-1579537800@www.putneyschool.org
SUMMARY:Open B Ball HOMEv Hartsbook
DESCRIPTION:Open B Ball HOMEv Hartsbook
URL:https://www.putneyschool.org/event/open-b-ball-homev-hartsbook/
LOCATION:East Court Gym\, Field House
CATEGORIES:Veracross Events
END:VEVENT
BEGIN:VEVENT
DTSTART;VALUE=DATE:20200120
DTEND;VALUE=DATE:20200121
DTSTAMP:20260420T142952
CREATED:20191021T123216Z
LAST-MODIFIED:20200120T205245Z
UID:7019-1579478400-1579564799@www.putneyschool.org
SUMMARY:MLK Day - Special Program
DESCRIPTION:MLK Day – Special Program
URL:https://www.putneyschool.org/event/mlk-day-special-program-3/
CATEGORIES:Veracross Events
END:VEVENT
BEGIN:VEVENT
DTSTART;VALUE=DATE:20200119
DTEND;VALUE=DATE:20200120
DTSTAMP:20260420T142952
CREATED:20191021T123216Z
LAST-MODIFIED:20200119T205249Z
UID:7018-1579392000-1579478399@www.putneyschool.org
SUMMARY:Trustees
DESCRIPTION:Trustees
URL:https://www.putneyschool.org/event/trustees-4/
CATEGORIES:Veracross Events
END:VEVENT
BEGIN:VEVENT
DTSTART;TZID=America/New_York:20200118T140000
DTEND;TZID=America/New_York:20200118T140000
DTSTAMP:20260420T142952
CREATED:20191228T183619Z
LAST-MODIFIED:20200118T205313Z
UID:7800-1579356000-1579356000@www.putneyschool.org
SUMMARY:Open B Ball HOME v Eagle Hill
DESCRIPTION:Open B Ball HOME v Eagle Hill
URL:https://www.putneyschool.org/event/open-b-ball-home-v-eagle-hill/
LOCATION:East Court Gym\, Field House
CATEGORIES:Veracross Events
END:VEVENT
BEGIN:VEVENT
DTSTART;TZID=America/New_York:20200118T140000
DTEND;TZID=America/New_York:20200118T140000
DTSTAMP:20260420T142952
CREATED:20191228T183618Z
LAST-MODIFIED:20200118T205313Z
UID:7799-1579356000-1579356000@www.putneyschool.org
SUMMARY:G Hoops AWAY at SBS
DESCRIPTION:G Hoops AWAY at SBS
URL:https://www.putneyschool.org/event/g-hoops-away-at-sbs/
LOCATION:Stoneleigh-Burnham School
CATEGORIES:Veracross Events
END:VEVENT
BEGIN:VEVENT
DTSTART;VALUE=DATE:20200118
DTEND;VALUE=DATE:20200119
DTSTAMP:20260420T142952
CREATED:20191021T123216Z
LAST-MODIFIED:20200118T205313Z
UID:7017-1579305600-1579391999@www.putneyschool.org
SUMMARY:Trustees
DESCRIPTION:Trustees
URL:https://www.putneyschool.org/event/trustees-3/
CATEGORIES:Veracross Events
END:VEVENT
BEGIN:VEVENT
DTSTART;TZID=America/New_York:20200115T153000
DTEND;TZID=America/New_York:20200115T153000
DTSTAMP:20260420T142952
CREATED:20191228T183618Z
LAST-MODIFIED:20200115T205116Z
UID:7797-1579102200-1579102200@www.putneyschool.org
SUMMARY:G Hoops AWAY at Charlemont
DESCRIPTION:G Hoops AWAY at Charlemont
URL:https://www.putneyschool.org/event/g-hoops-away-at-charlemont/
LOCATION:Academy at Charlemont
CATEGORIES:Veracross Events
END:VEVENT
BEGIN:VEVENT
DTSTART;TZID=America/New_York:20200110T160000
DTEND;TZID=America/New_York:20200110T160000
DTSTAMP:20260420T142952
CREATED:20191228T183618Z
LAST-MODIFIED:20200106T190533Z
UID:7795-1578672000-1578672000@www.putneyschool.org
SUMMARY:Open B Ball AWAY at Four Rivers
DESCRIPTION:Open B Ball AWAY at Four Rivers
URL:https://www.putneyschool.org/event/open-b-ball-away-at-four-rivers/
LOCATION:Indoor Action Sports
CATEGORIES:Veracross Events
END:VEVENT
BEGIN:VEVENT
DTSTART;TZID=America/New_York:20200108T160000
DTEND;TZID=America/New_York:20200108T160000
DTSTAMP:20260420T142952
CREATED:20191228T183618Z
LAST-MODIFIED:20200106T190533Z
UID:7793-1578499200-1578499200@www.putneyschool.org
SUMMARY:Open B Ball HOME v St. Michael's
DESCRIPTION:Open B Ball HOME v St. Michael’s
URL:https://www.putneyschool.org/event/open-b-ball-home-v-st-michaels/
LOCATION:East Court Gym\, Field House
CATEGORIES:Veracross Events
END:VEVENT
BEGIN:VEVENT
DTSTART;VALUE=DATE:20200108
DTEND;VALUE=DATE:20200109
DTSTAMP:20260420T142952
CREATED:20191021T123216Z
LAST-MODIFIED:20200106T190533Z
UID:7016-1578441600-1578527999@www.putneyschool.org
SUMMARY:Lakes Region Nordic Race
DESCRIPTION:Lakes Region Nordic Race
URL:https://www.putneyschool.org/event/lakes-region-nordic-race/
LOCATION:Field House Ski Wax Room
CATEGORIES:Veracross Events
END:VEVENT
BEGIN:VEVENT
DTSTART;TZID=America/New_York:20200106T173000
DTEND;TZID=America/New_York:20200106T173000
DTSTAMP:20260420T142952
CREATED:20200105T190614Z
LAST-MODIFIED:20200106T190533Z
UID:8004-1578331800-1578331800@www.putneyschool.org
SUMMARY:G Hoops Awayat PVCICS
DESCRIPTION:G Hoops Awayat PVCICS
URL:https://www.putneyschool.org/event/g-hoops-awayat-pvcics-3/
LOCATION:Pioneer Valley Chinese Immersion Charter School
CATEGORIES:Veracross Events
END:VEVENT
BEGIN:VEVENT
DTSTART;TZID=America/New_York:20200106T163000
DTEND;TZID=America/New_York:20200106T163000
DTSTAMP:20260420T142952
CREATED:20200105T190614Z
LAST-MODIFIED:20200106T190533Z
UID:8003-1578328200-1578328200@www.putneyschool.org
SUMMARY:Open B Ball AWAY at PVCICS
DESCRIPTION:Open B Ball AWAY at PVCICS
URL:https://www.putneyschool.org/event/open-b-ball-away-at-pvcics-3/
LOCATION:Pioneer Valley Chinese Immersion Charter School
CATEGORIES:Veracross Events
END:VEVENT
BEGIN:VEVENT
DTSTART;TZID=America/New_York:20200104T150000
DTEND;TZID=America/New_York:20200104T150000
DTSTAMP:20260420T142952
CREATED:20200103T185042Z
LAST-MODIFIED:20200104T185145Z
UID:7975-1578150000-1578150000@www.putneyschool.org
SUMMARY:G Hoops Awayat PVCICS
DESCRIPTION:G Hoops Awayat PVCICS
URL:https://www.putneyschool.org/event/g-hoops-awayat-pvcics-2/
LOCATION:Pioneer Valley Chinese Immersion Charter School
CATEGORIES:Veracross Events
END:VEVENT
BEGIN:VEVENT
DTSTART;TZID=America/New_York:20200104T143000
DTEND;TZID=America/New_York:20200104T143000
DTSTAMP:20260420T142952
CREATED:20191228T183618Z
LAST-MODIFIED:20200102T183754Z
UID:7792-1578148200-1578148200@www.putneyschool.org
SUMMARY:G Hoops Awayat PVCICS
DESCRIPTION:G Hoops Awayat PVCICS
URL:https://www.putneyschool.org/event/g-hoops-awayat-pvcics/
LOCATION:Pioneer Valley Chinese Immersion Charter School
CATEGORIES:Veracross Events
END:VEVENT
BEGIN:VEVENT
DTSTART;TZID=America/New_York:20200104T133000
DTEND;TZID=America/New_York:20200104T133000
DTSTAMP:20260420T142952
CREATED:20200103T185042Z
LAST-MODIFIED:20200104T185145Z
UID:7974-1578144600-1578144600@www.putneyschool.org
SUMMARY:Open B Ball AWAY at PVCICS
DESCRIPTION:Open B Ball AWAY at PVCICS
URL:https://www.putneyschool.org/event/open-b-ball-away-at-pvcics-2/
LOCATION:Pioneer Valley Chinese Immersion Charter School
CATEGORIES:Veracross Events
END:VEVENT
BEGIN:VEVENT
DTSTART;TZID=America/New_York:20200104T130000
DTEND;TZID=America/New_York:20200104T130000
DTSTAMP:20260420T142952
CREATED:20191228T183617Z
LAST-MODIFIED:20200102T183753Z
UID:7791-1578142800-1578142800@www.putneyschool.org
SUMMARY:Open B Ball AWAY at PVCICS
DESCRIPTION:Open B Ball AWAY at PVCICS
URL:https://www.putneyschool.org/event/open-b-ball-away-at-pvcics/
LOCATION:Pioneer Valley Chinese Immersion Charter School
CATEGORIES:Veracross Events
END:VEVENT
BEGIN:VEVENT
DTSTART;TZID=America/New_York:20200103T180000
DTEND;TZID=America/New_York:20200103T180000
DTSTAMP:20260420T142952
CREATED:20191231T183531Z
LAST-MODIFIED:20200101T183703Z
UID:7900-1578074400-1578074400@www.putneyschool.org
SUMMARY:Dinner
DESCRIPTION:Dinner
URL:https://www.putneyschool.org/event/dinner/
CATEGORIES:Veracross Events
END:VEVENT
BEGIN:VEVENT
DTSTART;TZID=America/New_York:20200103T180000
DTEND;TZID=America/New_York:20200103T180000
DTSTAMP:20260420T142952
CREATED:20191231T183531Z
LAST-MODIFIED:20191231T183531Z
UID:7901-1578074400-1578074400@www.putneyschool.org
SUMMARY:Dinner
DESCRIPTION:Dinner
URL:https://www.putneyschool.org/event/dinner-2/
CATEGORIES:Veracross Events
END:VEVENT
BEGIN:VEVENT
DTSTART;TZID=America/New_York:20200103T173000
DTEND;TZID=America/New_York:20200103T173000
DTSTAMP:20260420T142952
CREATED:20200102T183753Z
LAST-MODIFIED:20200103T185058Z
UID:7951-1578072600-1578072600@www.putneyschool.org
SUMMARY:Dinner
DESCRIPTION:Dinner
URL:https://www.putneyschool.org/event/dinner-3/
CATEGORIES:Veracross Events
END:VEVENT
BEGIN:VEVENT
DTSTART;TZID=America/New_York:20200103T150000
DTEND;TZID=America/New_York:20200103T163000
DTSTAMP:20260420T142952
CREATED:20191231T183531Z
LAST-MODIFIED:20200103T185058Z
UID:7898-1578063600-1578069000@www.putneyschool.org
SUMMARY:Afternoon Act
DESCRIPTION:Afternoon Act
URL:https://www.putneyschool.org/event/afternoon-act/
CATEGORIES:Veracross Events
END:VEVENT
BEGIN:VEVENT
DTSTART;TZID=America/New_York:20200103T150000
DTEND;TZID=America/New_York:20200103T163000
DTSTAMP:20260420T142952
CREATED:20191231T183531Z
LAST-MODIFIED:20191231T183531Z
UID:7899-1578063600-1578069000@www.putneyschool.org
SUMMARY:Afternoon Act
DESCRIPTION:Afternoon Act
URL:https://www.putneyschool.org/event/afternoon-act-2/
CATEGORIES:Veracross Events
END:VEVENT
BEGIN:VEVENT
DTSTART;TZID=America/New_York:20200103T134500
DTEND;TZID=America/New_York:20200103T144500
DTSTAMP:20260420T142952
CREATED:20191231T183531Z
LAST-MODIFIED:20200103T185058Z
UID:7896-1578059100-1578062700@www.putneyschool.org
SUMMARY:Block 4
DESCRIPTION:Block 4
URL:https://www.putneyschool.org/event/block-4/
CATEGORIES:Veracross Events
END:VEVENT
BEGIN:VEVENT
DTSTART;TZID=America/New_York:20200103T134500
DTEND;TZID=America/New_York:20200103T144500
DTSTAMP:20260420T142952
CREATED:20191231T183531Z
LAST-MODIFIED:20191231T183531Z
UID:7897-1578059100-1578062700@www.putneyschool.org
SUMMARY:Block 4
DESCRIPTION:Block 4
URL:https://www.putneyschool.org/event/block-4-2/
CATEGORIES:Veracross Events
END:VEVENT
BEGIN:VEVENT
DTSTART;TZID=America/New_York:20200103T122000
DTEND;TZID=America/New_York:20200103T134500
DTSTAMP:20260420T142952
CREATED:20191231T183531Z
LAST-MODIFIED:20191231T183531Z
UID:7895-1578054000-1578059100@www.putneyschool.org
SUMMARY:Lunch
DESCRIPTION:Lunch
URL:https://www.putneyschool.org/event/lunch-3/
CATEGORIES:Veracross Events
END:VEVENT
BEGIN:VEVENT
DTSTART;TZID=America/New_York:20200103T122000
DTEND;TZID=America/New_York:20200103T134500
DTSTAMP:20260420T142952
CREATED:20191231T183530Z
LAST-MODIFIED:20200103T185057Z
UID:7894-1578054000-1578059100@www.putneyschool.org
SUMMARY:Lunch
DESCRIPTION:Lunch
URL:https://www.putneyschool.org/event/lunch-2/
CATEGORIES:Veracross Events
END:VEVENT
BEGIN:VEVENT
DTSTART;TZID=America/New_York:20200103T112000
DTEND;TZID=America/New_York:20200103T122000
DTSTAMP:20260420T142952
CREATED:20191231T183530Z
LAST-MODIFIED:20200103T185057Z
UID:7892-1578050400-1578054000@www.putneyschool.org
SUMMARY:Block 3
DESCRIPTION:Block 3
URL:https://www.putneyschool.org/event/block-3/
CATEGORIES:Veracross Events
END:VEVENT
BEGIN:VEVENT
DTSTART;TZID=America/New_York:20200103T112000
DTEND;TZID=America/New_York:20200103T122000
DTSTAMP:20260420T142952
CREATED:20191231T183530Z
LAST-MODIFIED:20191231T183530Z
UID:7893-1578050400-1578054000@www.putneyschool.org
SUMMARY:Block 3
DESCRIPTION:Block 3
URL:https://www.putneyschool.org/event/block-3-2/
CATEGORIES:Veracross Events
END:VEVENT
BEGIN:VEVENT
DTSTART;TZID=America/New_York:20200103T104500
DTEND;TZID=America/New_York:20200103T111500
DTSTAMP:20260420T142952
CREATED:20191231T183530Z
LAST-MODIFIED:20200103T185057Z
UID:7890-1578048300-1578050100@www.putneyschool.org
SUMMARY:Assembly
DESCRIPTION:Assembly
URL:https://www.putneyschool.org/event/assembly-2/
CATEGORIES:Veracross Events
END:VEVENT
BEGIN:VEVENT
DTSTART;TZID=America/New_York:20200103T104500
DTEND;TZID=America/New_York:20200103T111500
DTSTAMP:20260420T142952
CREATED:20191231T183530Z
LAST-MODIFIED:20191231T183530Z
UID:7891-1578048300-1578050100@www.putneyschool.org
SUMMARY:Assembly
DESCRIPTION:Assembly
URL:https://www.putneyschool.org/event/assembly-3/
CATEGORIES:Veracross Events
END:VEVENT
BEGIN:VEVENT
DTSTART;TZID=America/New_York:20200103T102500
DTEND;TZID=America/New_York:20200103T104500
DTSTAMP:20260420T142952
CREATED:20191231T183530Z
LAST-MODIFIED:20200103T185057Z
UID:7888-1578047100-1578048300@www.putneyschool.org
SUMMARY:Milk Lunch
DESCRIPTION:Milk Lunch
URL:https://www.putneyschool.org/event/milk-lunch-4/
CATEGORIES:Veracross Events
END:VEVENT
END:VCALENDAR