BEGIN:VCALENDAR
VERSION:2.0
PRODID:-//The Putney School - ECPv6.15.20//NONSGML v1.0//EN
CALSCALE:GREGORIAN
METHOD:PUBLISH
X-ORIGINAL-URL:https://www.putneyschool.org
X-WR-CALDESC:Events for The Putney School
REFRESH-INTERVAL;VALUE=DURATION:PT1H
X-Robots-Tag:noindex
X-PUBLISHED-TTL:PT1H
BEGIN:VTIMEZONE
TZID:America/New_York
BEGIN:DAYLIGHT
TZOFFSETFROM:-0500
TZOFFSETTO:-0400
TZNAME:EDT
DTSTART:20180311T070000
END:DAYLIGHT
BEGIN:STANDARD
TZOFFSETFROM:-0400
TZOFFSETTO:-0500
TZNAME:EST
DTSTART:20181104T060000
END:STANDARD
BEGIN:DAYLIGHT
TZOFFSETFROM:-0500
TZOFFSETTO:-0400
TZNAME:EDT
DTSTART:20190310T070000
END:DAYLIGHT
BEGIN:STANDARD
TZOFFSETFROM:-0400
TZOFFSETTO:-0500
TZNAME:EST
DTSTART:20191103T060000
END:STANDARD
BEGIN:DAYLIGHT
TZOFFSETFROM:-0500
TZOFFSETTO:-0400
TZNAME:EDT
DTSTART:20200308T070000
END:DAYLIGHT
BEGIN:STANDARD
TZOFFSETFROM:-0400
TZOFFSETTO:-0500
TZNAME:EST
DTSTART:20201101T060000
END:STANDARD
END:VTIMEZONE
BEGIN:VEVENT
DTSTART;VALUE=DATE:20191226
DTEND;VALUE=DATE:20191227
DTSTAMP:20260423T053758
CREATED:20191021T123214Z
LAST-MODIFIED:20191226T182120Z
UID:7009-1577318400-1577404799@www.putneyschool.org
SUMMARY:Winter Break
DESCRIPTION:Winter Break
URL:https://www.putneyschool.org/event/winter-break-11/
CATEGORIES:Veracross Events
END:VEVENT
BEGIN:VEVENT
DTSTART;VALUE=DATE:20191225
DTEND;VALUE=DATE:20191226
DTSTAMP:20260423T053758
CREATED:20191021T123214Z
LAST-MODIFIED:20191225T182149Z
UID:7008-1577232000-1577318399@www.putneyschool.org
SUMMARY:Winter Break
DESCRIPTION:Winter Break
URL:https://www.putneyschool.org/event/winter-break-10/
CATEGORIES:Veracross Events
END:VEVENT
BEGIN:VEVENT
DTSTART;VALUE=DATE:20191224
DTEND;VALUE=DATE:20191225
DTSTAMP:20260423T053758
CREATED:20191021T123214Z
LAST-MODIFIED:20191224T182140Z
UID:7007-1577145600-1577231999@www.putneyschool.org
SUMMARY:Winter Break
DESCRIPTION:Winter Break
URL:https://www.putneyschool.org/event/winter-break-9/
CATEGORIES:Veracross Events
END:VEVENT
BEGIN:VEVENT
DTSTART;VALUE=DATE:20191223
DTEND;VALUE=DATE:20191224
DTSTAMP:20260423T053758
CREATED:20191021T123214Z
LAST-MODIFIED:20191223T182123Z
UID:7006-1577059200-1577145599@www.putneyschool.org
SUMMARY:Winter Break
DESCRIPTION:Winter Break
URL:https://www.putneyschool.org/event/winter-break-8/
CATEGORIES:Veracross Events
END:VEVENT
BEGIN:VEVENT
DTSTART;VALUE=DATE:20191220
DTEND;VALUE=DATE:20191221
DTSTAMP:20260423T053758
CREATED:20191021T123214Z
LAST-MODIFIED:20191220T182155Z
UID:7005-1576800000-1576886399@www.putneyschool.org
SUMMARY:Winter Break
DESCRIPTION:Winter Break
URL:https://www.putneyschool.org/event/winter-break-7/
CATEGORIES:Veracross Events
END:VEVENT
BEGIN:VEVENT
DTSTART;VALUE=DATE:20191219
DTEND;VALUE=DATE:20191220
DTSTAMP:20260423T053758
CREATED:20191021T123213Z
LAST-MODIFIED:20191219T182033Z
UID:7004-1576713600-1576799999@www.putneyschool.org
SUMMARY:Winter Break
DESCRIPTION:Winter Break
URL:https://www.putneyschool.org/event/winter-break-6/
CATEGORIES:Veracross Events
END:VEVENT
BEGIN:VEVENT
DTSTART;VALUE=DATE:20191218
DTEND;VALUE=DATE:20191219
DTSTAMP:20260423T053758
CREATED:20191021T123213Z
LAST-MODIFIED:20191218T182028Z
UID:7003-1576627200-1576713599@www.putneyschool.org
SUMMARY:Winter Break
DESCRIPTION:Winter Break
URL:https://www.putneyschool.org/event/winter-break-5/
CATEGORIES:Veracross Events
END:VEVENT
BEGIN:VEVENT
DTSTART;VALUE=DATE:20191217
DTEND;VALUE=DATE:20191218
DTSTAMP:20260423T053758
CREATED:20191021T123213Z
LAST-MODIFIED:20191217T182056Z
UID:7002-1576540800-1576627199@www.putneyschool.org
SUMMARY:Winter Break
DESCRIPTION:Winter Break
URL:https://www.putneyschool.org/event/winter-break-4/
CATEGORIES:Veracross Events
END:VEVENT
BEGIN:VEVENT
DTSTART;VALUE=DATE:20191216
DTEND;VALUE=DATE:20191217
DTSTAMP:20260423T053758
CREATED:20191021T123213Z
LAST-MODIFIED:20191216T182027Z
UID:7001-1576454400-1576540799@www.putneyschool.org
SUMMARY:Winter Break
DESCRIPTION:Winter Break
URL:https://www.putneyschool.org/event/winter-break-3/
CATEGORIES:Veracross Events
END:VEVENT
BEGIN:VEVENT
DTSTART;TZID=America/New_York:20191214T193000
DTEND;TZID=America/New_York:20191214T193000
DTSTAMP:20260423T053758
CREATED:20191021T123213Z
LAST-MODIFIED:20191210T173529Z
UID:7000-1576351800-1576351800@www.putneyschool.org
SUMMARY:Winter Music Concert
DESCRIPTION:Winter Music Concert
URL:https://www.putneyschool.org/event/winter-music-concert-2/
CATEGORIES:Veracross Events
END:VEVENT
BEGIN:VEVENT
DTSTART;VALUE=DATE:20191215
DTEND;VALUE=DATE:20191216
DTSTAMP:20260423T053758
CREATED:20191021T123212Z
LAST-MODIFIED:20191213T175237Z
UID:6999-1576368000-1576454399@www.putneyschool.org
SUMMARY:Travel Day\, dorms close 10:00 am
DESCRIPTION:Travel Day\, dorms close 10:00 am
URL:https://www.putneyschool.org/event/travel-day-students-return-by-730-pm-4/
CATEGORIES:Veracross Events
END:VEVENT
BEGIN:VEVENT
DTSTART;TZID=America/New_York:20191213T200000
DTEND;TZID=America/New_York:20191213T200000
DTSTAMP:20260423T053758
CREATED:20191021T123212Z
LAST-MODIFIED:20191213T175237Z
UID:6998-1576267200-1576267200@www.putneyschool.org
SUMMARY:Fall Play: "Museum" by Tina Howe
DESCRIPTION:Fall Play: “Museum” by Tina Howe
URL:https://www.putneyschool.org/event/fall-play-museum-by-tina-howe-3/
CATEGORIES:Veracross Events
END:VEVENT
BEGIN:VEVENT
DTSTART;VALUE=DATE:20191214
DTEND;VALUE=DATE:20191215
DTSTAMP:20260423T053758
CREATED:20191021T123212Z
LAST-MODIFIED:20191213T175237Z
UID:6996-1576281600-1576367999@www.putneyschool.org
SUMMARY:Project Week Performances and Presentations
DESCRIPTION:Project Week Performances and Presentations
URL:https://www.putneyschool.org/event/project-week-performances-and-presentations-2/
CATEGORIES:Veracross Events
END:VEVENT
BEGIN:VEVENT
DTSTART;VALUE=DATE:20191214
DTEND;VALUE=DATE:20191215
DTSTAMP:20260423T053758
CREATED:20191021T123212Z
LAST-MODIFIED:20191213T175237Z
UID:6997-1576281600-1576367999@www.putneyschool.org
SUMMARY:ACT
DESCRIPTION:ACT
URL:https://www.putneyschool.org/event/act-6/
CATEGORIES:Veracross Events
END:VEVENT
BEGIN:VEVENT
DTSTART;TZID=America/New_York:20191213T160000
DTEND;TZID=America/New_York:20191213T160000
DTSTAMP:20260423T053758
CREATED:20191213T175225Z
LAST-MODIFIED:20191213T175237Z
UID:7628-1576252800-1576252800@www.putneyschool.org
SUMMARY:Open Basketball Home V White Oak
DESCRIPTION:Open Basketball Home V White Oak
URL:https://www.putneyschool.org/event/open-basketball-home-v-white-oak/
LOCATION:East Court Gym\, Field House
CATEGORIES:Veracross Events
END:VEVENT
BEGIN:VEVENT
DTSTART;TZID=America/New_York:20191212T200000
DTEND;TZID=America/New_York:20191212T200000
DTSTAMP:20260423T053758
CREATED:20191021T123212Z
LAST-MODIFIED:20191213T175236Z
UID:6995-1576180800-1576180800@www.putneyschool.org
SUMMARY:Fall Play: "Museum" by Tina Howe
DESCRIPTION:Fall Play: “Museum” by Tina Howe
URL:https://www.putneyschool.org/event/fall-play-museum-by-tina-howe-2/
CATEGORIES:Veracross Events
END:VEVENT
BEGIN:VEVENT
DTSTART;VALUE=DATE:20191213
DTEND;VALUE=DATE:20191214
DTSTAMP:20260423T053758
CREATED:20191021T123212Z
LAST-MODIFIED:20191213T175236Z
UID:6994-1576195200-1576281599@www.putneyschool.org
SUMMARY:Project Week
DESCRIPTION:Project Week
URL:https://www.putneyschool.org/event/project-week-14/
CATEGORIES:Veracross Events
END:VEVENT
BEGIN:VEVENT
DTSTART;TZID=America/New_York:20191211T200000
DTEND;TZID=America/New_York:20191211T200000
DTSTAMP:20260423T053758
CREATED:20191021T123211Z
LAST-MODIFIED:20191212T175032Z
UID:6993-1576094400-1576094400@www.putneyschool.org
SUMMARY:Fall Play: "Museum" by Tina Howe
DESCRIPTION:Fall Play: “Museum” by Tina Howe
URL:https://www.putneyschool.org/event/fall-play-museum-by-tina-howe/
CATEGORIES:Veracross Events
END:VEVENT
BEGIN:VEVENT
DTSTART;VALUE=DATE:20191212
DTEND;VALUE=DATE:20191213
DTSTAMP:20260423T053758
CREATED:20191021T123211Z
LAST-MODIFIED:20191212T175032Z
UID:6992-1576108800-1576195199@www.putneyschool.org
SUMMARY:Project Week
DESCRIPTION:Project Week
URL:https://www.putneyschool.org/event/project-week-13/
CATEGORIES:Veracross Events
END:VEVENT
BEGIN:VEVENT
DTSTART;TZID=America/New_York:20191210T200000
DTEND;TZID=America/New_York:20191210T200000
DTSTAMP:20260423T053758
CREATED:20191021T123211Z
LAST-MODIFIED:20191203T170710Z
UID:6991-1576008000-1576008000@www.putneyschool.org
SUMMARY:Fall Play TBA
DESCRIPTION:Fall Play TBA
URL:https://www.putneyschool.org/event/fall-play-tba/
CATEGORIES:Veracross Events
END:VEVENT
BEGIN:VEVENT
DTSTART;VALUE=DATE:20191211
DTEND;VALUE=DATE:20191212
DTSTAMP:20260423T053758
CREATED:20191021T123211Z
LAST-MODIFIED:20191210T173528Z
UID:6990-1576022400-1576108799@www.putneyschool.org
SUMMARY:Project Week
DESCRIPTION:Project Week
URL:https://www.putneyschool.org/event/project-week-12/
CATEGORIES:Veracross Events
END:VEVENT
BEGIN:VEVENT
DTSTART;VALUE=DATE:20191210
DTEND;VALUE=DATE:20191211
DTSTAMP:20260423T053758
CREATED:20191021T123211Z
LAST-MODIFIED:20191210T173528Z
UID:6989-1575936000-1576022399@www.putneyschool.org
SUMMARY:Project Week
DESCRIPTION:Project Week
URL:https://www.putneyschool.org/event/project-week-11/
CATEGORIES:Veracross Events
END:VEVENT
BEGIN:VEVENT
DTSTART;VALUE=DATE:20191209
DTEND;VALUE=DATE:20191210
DTSTAMP:20260423T053758
CREATED:20191021T123211Z
LAST-MODIFIED:20191209T173549Z
UID:6988-1575849600-1575935999@www.putneyschool.org
SUMMARY:Project Week
DESCRIPTION:Project Week
URL:https://www.putneyschool.org/event/project-week-10/
CATEGORIES:Veracross Events
END:VEVENT
BEGIN:VEVENT
DTSTART;TZID=America/New_York:20191207T100000
DTEND;TZID=America/New_York:20191207T140000
DTSTAMP:20260423T053758
CREATED:20191205T173549Z
LAST-MODIFIED:20191207T173845Z
UID:7590-1575712800-1575727200@www.putneyschool.org
SUMMARY:Project Week Open House
DESCRIPTION:Project Week Open House
URL:https://www.putneyschool.org/event/project-week-open-house-3/
CATEGORIES:Veracross Events
END:VEVENT
BEGIN:VEVENT
DTSTART;VALUE=DATE:20191207
DTEND;VALUE=DATE:20191208
DTSTAMP:20260423T053758
CREATED:20191021T123210Z
LAST-MODIFIED:20191207T173845Z
UID:6986-1575676800-1575763199@www.putneyschool.org
SUMMARY:Project Week Open House
DESCRIPTION:Project Week Open House
URL:https://www.putneyschool.org/event/project-week-open-house-2/
CATEGORIES:Veracross Events
END:VEVENT
BEGIN:VEVENT
DTSTART;VALUE=DATE:20191207
DTEND;VALUE=DATE:20191208
DTSTAMP:20260423T053758
CREATED:20191021T123210Z
LAST-MODIFIED:20191207T173845Z
UID:6987-1575676800-1575763199@www.putneyschool.org
SUMMARY:SAT
DESCRIPTION:SAT
URL:https://www.putneyschool.org/event/sat-5/
CATEGORIES:Veracross Events
END:VEVENT
BEGIN:VEVENT
DTSTART;TZID=America/New_York:20191206T163000
DTEND;TZID=America/New_York:20191206T163000
DTSTAMP:20260423T053758
CREATED:20191203T170709Z
LAST-MODIFIED:20191206T173542Z
UID:7575-1575649800-1575649800@www.putneyschool.org
SUMMARY:G Hoops- Home v Eagle Hill
DESCRIPTION:G Hoops- Home v Eagle Hill
URL:https://www.putneyschool.org/event/g-hoops-home-v-eagle-hill/
LOCATION:East Court Gym\, Field House
CATEGORIES:Veracross Events
END:VEVENT
BEGIN:VEVENT
DTSTART;TZID=America/New_York:20191206T160000
DTEND;TZID=America/New_York:20191206T160000
DTSTAMP:20260423T053758
CREATED:20191203T170709Z
LAST-MODIFIED:20191206T173542Z
UID:7573-1575648000-1575648000@www.putneyschool.org
SUMMARY:Open B Ball- AwayV. BART
DESCRIPTION:Open B Ball- AwayV. BART
URL:https://www.putneyschool.org/event/open-b-ball-awayv-bart/
LOCATION:Berkshire Art & Technology
CATEGORIES:Veracross Events
END:VEVENT
BEGIN:VEVENT
DTSTART;VALUE=DATE:20191206
DTEND;VALUE=DATE:20191207
DTSTAMP:20260423T053758
CREATED:20191021T123210Z
LAST-MODIFIED:20191206T173542Z
UID:6985-1575590400-1575676799@www.putneyschool.org
SUMMARY:Project Week
DESCRIPTION:Project Week
URL:https://www.putneyschool.org/event/project-week-9/
CATEGORIES:Veracross Events
END:VEVENT
BEGIN:VEVENT
DTSTART;VALUE=DATE:20191205
DTEND;VALUE=DATE:20191206
DTSTAMP:20260423T053758
CREATED:20191021T123210Z
LAST-MODIFIED:20191205T173548Z
UID:6984-1575504000-1575590399@www.putneyschool.org
SUMMARY:Project Week
DESCRIPTION:Project Week
URL:https://www.putneyschool.org/event/project-week-8/
CATEGORIES:Veracross Events
END:VEVENT
END:VCALENDAR