BEGIN:VCALENDAR
VERSION:2.0
PRODID:-//The Putney School - ECPv6.15.20//NONSGML v1.0//EN
CALSCALE:GREGORIAN
METHOD:PUBLISH
X-WR-CALNAME:The Putney School
X-ORIGINAL-URL:https://www.putneyschool.org
X-WR-CALDESC:Events for The Putney School
REFRESH-INTERVAL;VALUE=DURATION:PT1H
X-Robots-Tag:noindex
X-PUBLISHED-TTL:PT1H
BEGIN:VTIMEZONE
TZID:America/New_York
BEGIN:DAYLIGHT
TZOFFSETFROM:-0500
TZOFFSETTO:-0400
TZNAME:EDT
DTSTART:20180311T070000
END:DAYLIGHT
BEGIN:STANDARD
TZOFFSETFROM:-0400
TZOFFSETTO:-0500
TZNAME:EST
DTSTART:20181104T060000
END:STANDARD
BEGIN:DAYLIGHT
TZOFFSETFROM:-0500
TZOFFSETTO:-0400
TZNAME:EDT
DTSTART:20190310T070000
END:DAYLIGHT
BEGIN:STANDARD
TZOFFSETFROM:-0400
TZOFFSETTO:-0500
TZNAME:EST
DTSTART:20191103T060000
END:STANDARD
BEGIN:DAYLIGHT
TZOFFSETFROM:-0500
TZOFFSETTO:-0400
TZNAME:EDT
DTSTART:20200308T070000
END:DAYLIGHT
BEGIN:STANDARD
TZOFFSETFROM:-0400
TZOFFSETTO:-0500
TZNAME:EST
DTSTART:20201101T060000
END:STANDARD
END:VTIMEZONE
BEGIN:VEVENT
DTSTART;VALUE=DATE:20191211
DTEND;VALUE=DATE:20191212
DTSTAMP:20260423T053701
CREATED:20191021T123211Z
LAST-MODIFIED:20191210T173528Z
UID:6990-1576022400-1576108799@www.putneyschool.org
SUMMARY:Project Week
DESCRIPTION:Project Week
URL:https://www.putneyschool.org/event/project-week-12/
CATEGORIES:Veracross Events
END:VEVENT
BEGIN:VEVENT
DTSTART;VALUE=DATE:20191210
DTEND;VALUE=DATE:20191211
DTSTAMP:20260423T053701
CREATED:20191021T123211Z
LAST-MODIFIED:20191210T173528Z
UID:6989-1575936000-1576022399@www.putneyschool.org
SUMMARY:Project Week
DESCRIPTION:Project Week
URL:https://www.putneyschool.org/event/project-week-11/
CATEGORIES:Veracross Events
END:VEVENT
BEGIN:VEVENT
DTSTART;VALUE=DATE:20191209
DTEND;VALUE=DATE:20191210
DTSTAMP:20260423T053701
CREATED:20191021T123211Z
LAST-MODIFIED:20191209T173549Z
UID:6988-1575849600-1575935999@www.putneyschool.org
SUMMARY:Project Week
DESCRIPTION:Project Week
URL:https://www.putneyschool.org/event/project-week-10/
CATEGORIES:Veracross Events
END:VEVENT
BEGIN:VEVENT
DTSTART;TZID=America/New_York:20191207T100000
DTEND;TZID=America/New_York:20191207T140000
DTSTAMP:20260423T053701
CREATED:20191205T173549Z
LAST-MODIFIED:20191207T173845Z
UID:7590-1575712800-1575727200@www.putneyschool.org
SUMMARY:Project Week Open House
DESCRIPTION:Project Week Open House
URL:https://www.putneyschool.org/event/project-week-open-house-3/
CATEGORIES:Veracross Events
END:VEVENT
BEGIN:VEVENT
DTSTART;VALUE=DATE:20191207
DTEND;VALUE=DATE:20191208
DTSTAMP:20260423T053701
CREATED:20191021T123210Z
LAST-MODIFIED:20191207T173845Z
UID:6986-1575676800-1575763199@www.putneyschool.org
SUMMARY:Project Week Open House
DESCRIPTION:Project Week Open House
URL:https://www.putneyschool.org/event/project-week-open-house-2/
CATEGORIES:Veracross Events
END:VEVENT
BEGIN:VEVENT
DTSTART;VALUE=DATE:20191207
DTEND;VALUE=DATE:20191208
DTSTAMP:20260423T053701
CREATED:20191021T123210Z
LAST-MODIFIED:20191207T173845Z
UID:6987-1575676800-1575763199@www.putneyschool.org
SUMMARY:SAT
DESCRIPTION:SAT
URL:https://www.putneyschool.org/event/sat-5/
CATEGORIES:Veracross Events
END:VEVENT
BEGIN:VEVENT
DTSTART;TZID=America/New_York:20191206T163000
DTEND;TZID=America/New_York:20191206T163000
DTSTAMP:20260423T053701
CREATED:20191203T170709Z
LAST-MODIFIED:20191206T173542Z
UID:7575-1575649800-1575649800@www.putneyschool.org
SUMMARY:G Hoops- Home v Eagle Hill
DESCRIPTION:G Hoops- Home v Eagle Hill
URL:https://www.putneyschool.org/event/g-hoops-home-v-eagle-hill/
LOCATION:East Court Gym\, Field House
CATEGORIES:Veracross Events
END:VEVENT
BEGIN:VEVENT
DTSTART;TZID=America/New_York:20191206T160000
DTEND;TZID=America/New_York:20191206T160000
DTSTAMP:20260423T053701
CREATED:20191203T170709Z
LAST-MODIFIED:20191206T173542Z
UID:7573-1575648000-1575648000@www.putneyschool.org
SUMMARY:Open B Ball- AwayV. BART
DESCRIPTION:Open B Ball- AwayV. BART
URL:https://www.putneyschool.org/event/open-b-ball-awayv-bart/
LOCATION:Berkshire Art & Technology
CATEGORIES:Veracross Events
END:VEVENT
BEGIN:VEVENT
DTSTART;VALUE=DATE:20191206
DTEND;VALUE=DATE:20191207
DTSTAMP:20260423T053701
CREATED:20191021T123210Z
LAST-MODIFIED:20191206T173542Z
UID:6985-1575590400-1575676799@www.putneyschool.org
SUMMARY:Project Week
DESCRIPTION:Project Week
URL:https://www.putneyschool.org/event/project-week-9/
CATEGORIES:Veracross Events
END:VEVENT
BEGIN:VEVENT
DTSTART;VALUE=DATE:20191205
DTEND;VALUE=DATE:20191206
DTSTAMP:20260423T053701
CREATED:20191021T123210Z
LAST-MODIFIED:20191205T173548Z
UID:6984-1575504000-1575590399@www.putneyschool.org
SUMMARY:Project Week
DESCRIPTION:Project Week
URL:https://www.putneyschool.org/event/project-week-8/
CATEGORIES:Veracross Events
END:VEVENT
BEGIN:VEVENT
DTSTART;VALUE=DATE:20191204
DTEND;VALUE=DATE:20191205
DTSTAMP:20260423T053701
CREATED:20191021T123209Z
LAST-MODIFIED:20191204T172028Z
UID:6983-1575417600-1575503999@www.putneyschool.org
SUMMARY:Project Week
DESCRIPTION:Project Week
URL:https://www.putneyschool.org/event/project-week-7/
CATEGORIES:Veracross Events
END:VEVENT
BEGIN:VEVENT
DTSTART;VALUE=DATE:20191203
DTEND;VALUE=DATE:20191204
DTSTAMP:20260423T053701
CREATED:20191021T123209Z
LAST-MODIFIED:20191203T170708Z
UID:6982-1575331200-1575417599@www.putneyschool.org
SUMMARY:Project Week
DESCRIPTION:Project Week
URL:https://www.putneyschool.org/event/project-week-6/
CATEGORIES:Veracross Events
END:VEVENT
BEGIN:VEVENT
DTSTART;VALUE=DATE:20191202
DTEND;VALUE=DATE:20191203
DTSTAMP:20260423T053701
CREATED:20191021T123209Z
LAST-MODIFIED:20191202T170527Z
UID:6981-1575244800-1575331199@www.putneyschool.org
SUMMARY:Project Week
DESCRIPTION:Project Week
URL:https://www.putneyschool.org/event/project-week-5/
CATEGORIES:Veracross Events
END:VEVENT
BEGIN:VEVENT
DTSTART;VALUE=DATE:20191201
DTEND;VALUE=DATE:20191202
DTSTAMP:20260423T053701
CREATED:20191021T123209Z
LAST-MODIFIED:20191201T165133Z
UID:6980-1575158400-1575244799@www.putneyschool.org
SUMMARY:Travel Day\, students return by 7:30pm
DESCRIPTION:Travel Day\, students return by 7:30pm
URL:https://www.putneyschool.org/event/travel-day-students-return-by-730pm-3/
CATEGORIES:Veracross Events
END:VEVENT
BEGIN:VEVENT
DTSTART;VALUE=DATE:20191130
DTEND;VALUE=DATE:20191201
DTSTAMP:20260423T053701
CREATED:20191021T123209Z
LAST-MODIFIED:20191129T165051Z
UID:6979-1575072000-1575158399@www.putneyschool.org
SUMMARY:Thanksgiving Break
DESCRIPTION:Thanksgiving Break
URL:https://www.putneyschool.org/event/thanksgiving-break-8/
CATEGORIES:Veracross Events
END:VEVENT
BEGIN:VEVENT
DTSTART;VALUE=DATE:20191129
DTEND;VALUE=DATE:20191130
DTSTAMP:20260423T053701
CREATED:20191021T123208Z
LAST-MODIFIED:20191129T165051Z
UID:6978-1574985600-1575071999@www.putneyschool.org
SUMMARY:Thanksgiving Break
DESCRIPTION:Thanksgiving Break
URL:https://www.putneyschool.org/event/thanksgiving-break-7/
CATEGORIES:Veracross Events
END:VEVENT
BEGIN:VEVENT
DTSTART;VALUE=DATE:20191128
DTEND;VALUE=DATE:20191129
DTSTAMP:20260423T053701
CREATED:20191021T123208Z
LAST-MODIFIED:20191128T165035Z
UID:6977-1574899200-1574985599@www.putneyschool.org
SUMMARY:Thanksgiving Break
DESCRIPTION:Thanksgiving Break
URL:https://www.putneyschool.org/event/thanksgiving-break-6/
CATEGORIES:Veracross Events
END:VEVENT
BEGIN:VEVENT
DTSTART;VALUE=DATE:20191127
DTEND;VALUE=DATE:20191128
DTSTAMP:20260423T053701
CREATED:20191021T123208Z
LAST-MODIFIED:20191127T165030Z
UID:6976-1574812800-1574899199@www.putneyschool.org
SUMMARY:Thanksgiving Break
DESCRIPTION:Thanksgiving Break
URL:https://www.putneyschool.org/event/thanksgiving-break-5/
CATEGORIES:Veracross Events
END:VEVENT
BEGIN:VEVENT
DTSTART;VALUE=DATE:20191126
DTEND;VALUE=DATE:20191127
DTSTAMP:20260423T053701
CREATED:20191021T123208Z
LAST-MODIFIED:20191126T165145Z
UID:6975-1574726400-1574812799@www.putneyschool.org
SUMMARY:Thanksgiving Break
DESCRIPTION:Thanksgiving Break
URL:https://www.putneyschool.org/event/thanksgiving-break-4/
CATEGORIES:Veracross Events
END:VEVENT
BEGIN:VEVENT
DTSTART;VALUE=DATE:20191125
DTEND;VALUE=DATE:20191126
DTSTAMP:20260423T053701
CREATED:20191021T123207Z
LAST-MODIFIED:20191125T165031Z
UID:6974-1574640000-1574726399@www.putneyschool.org
SUMMARY:Thanksgiving Break
DESCRIPTION:Thanksgiving Break
URL:https://www.putneyschool.org/event/thanksgiving-break-3/
CATEGORIES:Veracross Events
END:VEVENT
BEGIN:VEVENT
DTSTART;VALUE=DATE:20191124
DTEND;VALUE=DATE:20191125
DTSTAMP:20260423T053701
CREATED:20191021T123207Z
LAST-MODIFIED:20191124T165046Z
UID:6973-1574553600-1574639999@www.putneyschool.org
SUMMARY:Travel Day\, dorms close at 10:00 am
DESCRIPTION:Travel Day\, dorms close at 10:00 am
URL:https://www.putneyschool.org/event/travel-day-dorms-close-at-1000-am-2/
CATEGORIES:Veracross Events
END:VEVENT
BEGIN:VEVENT
DTSTART;TZID=America/New_York:20191122T140000
DTEND;TZID=America/New_York:20191122T140000
DTSTAMP:20260423T053701
CREATED:20191021T123207Z
LAST-MODIFIED:20191122T165041Z
UID:6972-1574431200-1574431200@www.putneyschool.org
SUMMARY:March of the Turkeys
DESCRIPTION:March of the Turkeys
URL:https://www.putneyschool.org/event/march-of-the-turkeys-3/
CATEGORIES:Veracross Events
END:VEVENT
BEGIN:VEVENT
DTSTART;TZID=America/New_York:20191122T103000
DTEND;TZID=America/New_York:20191122T111500
DTSTAMP:20260423T053701
CREATED:20191021T123207Z
LAST-MODIFIED:20191122T165041Z
UID:6971-1574418600-1574421300@www.putneyschool.org
SUMMARY:Dance Performance
DESCRIPTION:Dance Performance
URL:https://www.putneyschool.org/event/dance-performance/
CATEGORIES:Veracross Events
END:VEVENT
BEGIN:VEVENT
DTSTART;TZID=America/New_York:20191122T095500
DTEND;TZID=America/New_York:20191122T102500
DTSTAMP:20260423T053701
CREATED:20191021T123207Z
LAST-MODIFIED:20191122T165041Z
UID:6970-1574416500-1574418300@www.putneyschool.org
SUMMARY:End of Term Art Show Milk Lunch
DESCRIPTION:End of Term Art Show Milk Lunch
URL:https://www.putneyschool.org/event/end-of-term-art-show-milk-lunch/
CATEGORIES:Veracross Events
END:VEVENT
BEGIN:VEVENT
DTSTART;TZID=America/New_York:20191116T150000
DTEND;TZID=America/New_York:20191116T150000
DTSTAMP:20260423T053701
CREATED:20191107T153543Z
LAST-MODIFIED:20191111T153626Z
UID:7437-1573916400-1573916400@www.putneyschool.org
SUMMARY:G Soccer v High Mowing
DESCRIPTION:G Soccer v High Mowing
URL:https://www.putneyschool.org/event/g-soccer-v-high-mowing-2/
LOCATION:High Mowing School
CATEGORIES:Veracross Events
END:VEVENT
BEGIN:VEVENT
DTSTART;TZID=America/New_York:20191113T150000
DTEND;TZID=America/New_York:20191113T150000
DTSTAMP:20260423T053701
CREATED:20191021T123206Z
LAST-MODIFIED:20191106T153541Z
UID:6969-1573657200-1573657200@www.putneyschool.org
SUMMARY:G Soccer v High Mowing
DESCRIPTION:G Soccer v High Mowing
URL:https://www.putneyschool.org/event/g-soccer-v-high-mowing/
LOCATION:High Mowing School
CATEGORIES:Veracross Events
END:VEVENT
BEGIN:VEVENT
DTSTART;TZID=America/New_York:20191112T160000
DTEND;TZID=America/New_York:20191112T220000
DTSTAMP:20260423T053701
CREATED:20191021T123206Z
LAST-MODIFIED:20191112T153555Z
UID:6967-1573574400-1573596000@www.putneyschool.org
SUMMARY:Lassus Quartet and Feldman's 2nd String Quartet at the Currier Center
DESCRIPTION:Lassus Quartet and Feldman’s 2nd String Quartet at the Currier Center
URL:https://www.putneyschool.org/event/lassus-quartett-and-feldmans-2nd-string-quartet-at-the-currier-center/
CATEGORIES:Veracross Events
END:VEVENT
BEGIN:VEVENT
DTSTART;TZID=America/New_York:20191109T140000
DTEND;TZID=America/New_York:20191109T140000
DTSTAMP:20260423T053701
CREATED:20191021T123206Z
LAST-MODIFIED:20191106T153541Z
UID:6965-1573308000-1573308000@www.putneyschool.org
SUMMARY:Open Soccer v Dublin (away) (post season)
DESCRIPTION:Open Soccer v Dublin (away) (post season)
URL:https://www.putneyschool.org/event/open-soccer-v-dublin-away-post-season/
LOCATION:Dublin School
CATEGORIES:Veracross Events
END:VEVENT
BEGIN:VEVENT
DTSTART;TZID=America/New_York:20191109T140000
DTEND;TZID=America/New_York:20191109T140000
DTSTAMP:20260423T053701
CREATED:20191021T123206Z
LAST-MODIFIED:20191104T153536Z
UID:6966-1573308000-1573308000@www.putneyschool.org
SUMMARY:G Soccer v 	Dublin
DESCRIPTION:G Soccer v 	Dublin
URL:https://www.putneyschool.org/event/g-soccer-v-dublin/
LOCATION:Athletic Fields
CATEGORIES:Veracross Events
END:VEVENT
BEGIN:VEVENT
DTSTART;VALUE=DATE:20191109
DTEND;VALUE=DATE:20191110
DTSTAMP:20260423T053701
CREATED:20191021T123206Z
LAST-MODIFIED:20191109T153528Z
UID:6963-1573257600-1573343999@www.putneyschool.org
SUMMARY:Bedales Visit
DESCRIPTION:Bedales Visit
URL:https://www.putneyschool.org/event/bedales-visit-15/
CATEGORIES:Veracross Events
END:VEVENT
END:VCALENDAR