BEGIN:VCALENDAR
VERSION:2.0
PRODID:-//The Putney School - ECPv6.15.20//NONSGML v1.0//EN
CALSCALE:GREGORIAN
METHOD:PUBLISH
X-ORIGINAL-URL:https://www.putneyschool.org
X-WR-CALDESC:Events for The Putney School
REFRESH-INTERVAL;VALUE=DURATION:PT1H
X-Robots-Tag:noindex
X-PUBLISHED-TTL:PT1H
BEGIN:VTIMEZONE
TZID:America/New_York
BEGIN:DAYLIGHT
TZOFFSETFROM:-0500
TZOFFSETTO:-0400
TZNAME:EDT
DTSTART:20180311T070000
END:DAYLIGHT
BEGIN:STANDARD
TZOFFSETFROM:-0400
TZOFFSETTO:-0500
TZNAME:EST
DTSTART:20181104T060000
END:STANDARD
BEGIN:DAYLIGHT
TZOFFSETFROM:-0500
TZOFFSETTO:-0400
TZNAME:EDT
DTSTART:20190310T070000
END:DAYLIGHT
BEGIN:STANDARD
TZOFFSETFROM:-0400
TZOFFSETTO:-0500
TZNAME:EST
DTSTART:20191103T060000
END:STANDARD
BEGIN:DAYLIGHT
TZOFFSETFROM:-0500
TZOFFSETTO:-0400
TZNAME:EDT
DTSTART:20200308T070000
END:DAYLIGHT
BEGIN:STANDARD
TZOFFSETFROM:-0400
TZOFFSETTO:-0500
TZNAME:EST
DTSTART:20201101T060000
END:STANDARD
END:VTIMEZONE
BEGIN:VEVENT
DTSTART;VALUE=DATE:20191102
DTEND;VALUE=DATE:20191103
DTSTAMP:20260425T114732
CREATED:20191021T123203Z
LAST-MODIFIED:20191102T152150Z
UID:6949-1572652800-1572739199@www.putneyschool.org
SUMMARY:Bedales Visit
DESCRIPTION:Bedales Visit
URL:https://www.putneyschool.org/event/bedales-visit-8/
CATEGORIES:Veracross Events
END:VEVENT
BEGIN:VEVENT
DTSTART;VALUE=DATE:20191102
DTEND;VALUE=DATE:20191103
DTSTAMP:20260425T114732
CREATED:20191021T123203Z
LAST-MODIFIED:20191102T152150Z
UID:6950-1572652800-1572739199@www.putneyschool.org
SUMMARY:SAT
DESCRIPTION:SAT
URL:https://www.putneyschool.org/event/sat-3/
CATEGORIES:Veracross Events
END:VEVENT
BEGIN:VEVENT
DTSTART;VALUE=DATE:20191102
DTEND;VALUE=DATE:20191103
DTSTAMP:20260425T114732
CREATED:20191021T123203Z
LAST-MODIFIED:20191023T145217Z
UID:6951-1572652800-1572739199@www.putneyschool.org
SUMMARY:SAT
DESCRIPTION:SAT
URL:https://www.putneyschool.org/event/sat-4/
CATEGORIES:Veracross Events
END:VEVENT
BEGIN:VEVENT
DTSTART;VALUE=DATE:20191101
DTEND;VALUE=DATE:20191102
DTSTAMP:20260425T114732
CREATED:20191021T123203Z
LAST-MODIFIED:20191101T152028Z
UID:6948-1572566400-1572652799@www.putneyschool.org
SUMMARY:Bedales Visit
DESCRIPTION:Bedales Visit
URL:https://www.putneyschool.org/event/bedales-visit-7/
CATEGORIES:Veracross Events
END:VEVENT
BEGIN:VEVENT
DTSTART;TZID=America/New_York:20191031T150000
DTEND;TZID=America/New_York:20191031T150000
DTSTAMP:20260425T114732
CREATED:20191021T123203Z
LAST-MODIFIED:20191030T152028Z
UID:6947-1572534000-1572534000@www.putneyschool.org
SUMMARY:G Soccer Semi Finals
DESCRIPTION:G Soccer Semi Finals
URL:https://www.putneyschool.org/event/g-soccer-semi-finals/
CATEGORIES:Veracross Events
END:VEVENT
BEGIN:VEVENT
DTSTART;VALUE=DATE:20191031
DTEND;VALUE=DATE:20191101
DTSTAMP:20260425T114732
CREATED:20191021T123202Z
LAST-MODIFIED:20191030T152027Z
UID:6945-1572480000-1572566399@www.putneyschool.org
SUMMARY:Bedales Visit
DESCRIPTION:Bedales Visit
URL:https://www.putneyschool.org/event/bedales-visit-6/
CATEGORIES:Veracross Events
END:VEVENT
BEGIN:VEVENT
DTSTART;VALUE=DATE:20191031
DTEND;VALUE=DATE:20191101
DTSTAMP:20260425T114732
CREATED:20191021T123202Z
LAST-MODIFIED:20191030T152027Z
UID:6946-1572480000-1572566399@www.putneyschool.org
SUMMARY:Open Soccer Semi finals
DESCRIPTION:Open Soccer Semi finals
URL:https://www.putneyschool.org/event/open-soccer-semi-finals/
CATEGORIES:Veracross Events
END:VEVENT
BEGIN:VEVENT
DTSTART;VALUE=DATE:20191030
DTEND;VALUE=DATE:20191031
DTSTAMP:20260425T114732
CREATED:20191021T123202Z
LAST-MODIFIED:20191030T152027Z
UID:6943-1572393600-1572479999@www.putneyschool.org
SUMMARY:Bedales Visit
DESCRIPTION:Bedales Visit
URL:https://www.putneyschool.org/event/bedales-visit-5/
CATEGORIES:Veracross Events
END:VEVENT
BEGIN:VEVENT
DTSTART;VALUE=DATE:20191030
DTEND;VALUE=DATE:20191031
DTSTAMP:20260425T114732
CREATED:20191021T123202Z
LAST-MODIFIED:20191030T152027Z
UID:6944-1572393600-1572479999@www.putneyschool.org
SUMMARY:PSAT
DESCRIPTION:PSAT
URL:https://www.putneyschool.org/event/psat/
CATEGORIES:Veracross Events
END:VEVENT
BEGIN:VEVENT
DTSTART;TZID=America/New_York:20191029T150000
DTEND;TZID=America/New_York:20191029T150000
DTSTAMP:20260425T114732
CREATED:20191021T123202Z
LAST-MODIFIED:20191029T152027Z
UID:6942-1572361200-1572361200@www.putneyschool.org
SUMMARY:G Soccer Quarter Finals
DESCRIPTION:G Soccer Quarter Finals
URL:https://www.putneyschool.org/event/g-soccer-quarter-finals/
CATEGORIES:Veracross Events
END:VEVENT
BEGIN:VEVENT
DTSTART;VALUE=DATE:20191029
DTEND;VALUE=DATE:20191030
DTSTAMP:20260425T114732
CREATED:20191021T123202Z
LAST-MODIFIED:20191029T152027Z
UID:6941-1572307200-1572393599@www.putneyschool.org
SUMMARY:Open Soccer quarter finals
DESCRIPTION:Open Soccer quarter finals
URL:https://www.putneyschool.org/event/open-soccer-quarter-finals/
CATEGORIES:Veracross Events
END:VEVENT
BEGIN:VEVENT
DTSTART;VALUE=DATE:20191029
DTEND;VALUE=DATE:20191030
DTSTAMP:20260425T114732
CREATED:20191021T123201Z
LAST-MODIFIED:20191029T152027Z
UID:6940-1572307200-1572393599@www.putneyschool.org
SUMMARY:Bedales Visit
DESCRIPTION:Bedales Visit
URL:https://www.putneyschool.org/event/bedales-visit-4/
CATEGORIES:Veracross Events
END:VEVENT
BEGIN:VEVENT
DTSTART;TZID=America/New_York:20191028T153000
DTEND;TZID=America/New_York:20191028T153000
DTSTAMP:20260425T114732
CREATED:20191021T123201Z
LAST-MODIFIED:20191028T152051Z
UID:6939-1572276600-1572276600@www.putneyschool.org
SUMMARY:Open Soccer v Greenwood (home game)
DESCRIPTION:Open Soccer v Greenwood (home game)
URL:https://www.putneyschool.org/event/open-soccer-v-greenwood-home-game/
LOCATION:Athletic Fields
CATEGORIES:Veracross Events
END:VEVENT
BEGIN:VEVENT
DTSTART;VALUE=DATE:20191028
DTEND;VALUE=DATE:20191029
DTSTAMP:20260425T114732
CREATED:20191021T123201Z
LAST-MODIFIED:20191028T152050Z
UID:6938-1572220800-1572307199@www.putneyschool.org
SUMMARY:Bedales Visit
DESCRIPTION:Bedales Visit
URL:https://www.putneyschool.org/event/bedales-visit-3/
CATEGORIES:Veracross Events
END:VEVENT
BEGIN:VEVENT
DTSTART;VALUE=DATE:20191027
DTEND;VALUE=DATE:20191028
DTSTAMP:20260425T114732
CREATED:20191021T123201Z
LAST-MODIFIED:20191027T152028Z
UID:6936-1572134400-1572220799@www.putneyschool.org
SUMMARY:College Essay Day
DESCRIPTION:College Essay Day
URL:https://www.putneyschool.org/event/college-essay-day-2/
CATEGORIES:Veracross Events
END:VEVENT
BEGIN:VEVENT
DTSTART;VALUE=DATE:20191027
DTEND;VALUE=DATE:20191028
DTSTAMP:20260425T114732
CREATED:20191021T123201Z
LAST-MODIFIED:20191027T152028Z
UID:6937-1572134400-1572220799@www.putneyschool.org
SUMMARY:Bedales Visit
DESCRIPTION:Bedales Visit
URL:https://www.putneyschool.org/event/bedales-visit-2/
CATEGORIES:Veracross Events
END:VEVENT
BEGIN:VEVENT
DTSTART;TZID=America/New_York:20191026T140000
DTEND;TZID=America/New_York:20191026T140000
DTSTAMP:20260425T114732
CREATED:20191021T123200Z
LAST-MODIFIED:20191026T152053Z
UID:6935-1572098400-1572098400@www.putneyschool.org
SUMMARY:Open Soccer v Putney adult team
DESCRIPTION:Open Soccer v Putney adult team
URL:https://www.putneyschool.org/event/open-soccer-v-putney-adult-team/
LOCATION:Athletic Fields
CATEGORIES:Veracross Events
END:VEVENT
BEGIN:VEVENT
DTSTART;VALUE=DATE:20191026
DTEND;VALUE=DATE:20191027
DTSTAMP:20260425T114732
CREATED:20191021T123200Z
LAST-MODIFIED:20191021T123200Z
UID:6933-1572048000-1572134399@www.putneyschool.org
SUMMARY:Experience Putney (Ed Cons visiting)
DESCRIPTION:Experience Putney (Ed Cons visiting)
URL:https://www.putneyschool.org/event/experience-putney-ed-cons-visiting-4/
CATEGORIES:Veracross Events
END:VEVENT
BEGIN:VEVENT
DTSTART;VALUE=DATE:20191026
DTEND;VALUE=DATE:20191027
DTSTAMP:20260425T114732
CREATED:20191021T123200Z
LAST-MODIFIED:20191026T152053Z
UID:6934-1572048000-1572134399@www.putneyschool.org
SUMMARY:ACT
DESCRIPTION:ACT
URL:https://www.putneyschool.org/event/act-5/
CATEGORIES:Veracross Events
END:VEVENT
BEGIN:VEVENT
DTSTART;TZID=America/New_York:20191025T154500
DTEND;TZID=America/New_York:20191025T154500
DTSTAMP:20260425T114732
CREATED:20191021T123200Z
LAST-MODIFIED:20191025T152143Z
UID:6932-1572018300-1572018300@www.putneyschool.org
SUMMARY:G Soccer v Four Rivers
DESCRIPTION:G Soccer v Four Rivers
URL:https://www.putneyschool.org/event/g-soccer-v-four-rivers/
LOCATION:Athletic Fields
CATEGORIES:Veracross Events
END:VEVENT
BEGIN:VEVENT
DTSTART;VALUE=DATE:20191025
DTEND;VALUE=DATE:20191026
DTSTAMP:20260425T114732
CREATED:20191021T123200Z
LAST-MODIFIED:20191021T123200Z
UID:6930-1571961600-1572047999@www.putneyschool.org
SUMMARY:Experience Putney (Ed Cons visiting)
DESCRIPTION:Experience Putney (Ed Cons visiting)
URL:https://www.putneyschool.org/event/experience-putney-ed-cons-visiting-3/
CATEGORIES:Veracross Events
END:VEVENT
BEGIN:VEVENT
DTSTART;TZID=America/New_York:20191023T160000
DTEND;TZID=America/New_York:20191023T160000
DTSTAMP:20260425T114732
CREATED:20191021T123159Z
LAST-MODIFIED:20191023T145215Z
UID:6929-1571846400-1571846400@www.putneyschool.org
SUMMARY:Open Soccer v PVPA (away game)
DESCRIPTION:Open Soccer v PVPA (away game)
URL:https://www.putneyschool.org/event/open-soccer-v-pvpa-away-game/
LOCATION:Pioneer Valley Performing Arts
CATEGORIES:Veracross Events
END:VEVENT
BEGIN:VEVENT
DTSTART;TZID=America/New_York:20191023T150000
DTEND;TZID=America/New_York:20191023T150000
DTSTAMP:20260425T114732
CREATED:20191022T145243Z
LAST-MODIFIED:20191023T145215Z
UID:7312-1571842800-1571842800@www.putneyschool.org
SUMMARY:XC Meet @ Putney
DESCRIPTION:XC Meet @ Putney
URL:https://www.putneyschool.org/event/xc-meet-putney/
CATEGORIES:Veracross Events
END:VEVENT
BEGIN:VEVENT
DTSTART;TZID=America/New_York:20191022T153000
DTEND;TZID=America/New_York:20191022T153000
DTSTAMP:20260425T114732
CREATED:20191021T123159Z
LAST-MODIFIED:20191022T145243Z
UID:6927-1571758200-1571758200@www.putneyschool.org
SUMMARY:Open Soccer v Four Rivers (Home game)
DESCRIPTION:Open Soccer v Four Rivers (Home game)
URL:https://www.putneyschool.org/event/open-soccer-v-four-rivers-away-game/
LOCATION:Four Rivers Charter School
CATEGORIES:Veracross Events
END:VEVENT
BEGIN:VEVENT
DTSTART;TZID=America/New_York:20191021T161500
DTEND;TZID=America/New_York:20191021T161500
DTSTAMP:20260425T114732
CREATED:20191021T123159Z
LAST-MODIFIED:20191021T145027Z
UID:6925-1571674500-1571674500@www.putneyschool.org
SUMMARY:G Soccer V BUHS
DESCRIPTION:G Soccer V BUHS
URL:https://www.putneyschool.org/event/g-soccer-v-buhs/
LOCATION:Brattleboro Union High School
CATEGORIES:Veracross Events
END:VEVENT
BEGIN:VEVENT
DTSTART;VALUE=DATE:20191020
DTEND;VALUE=DATE:20191021
DTSTAMP:20260425T114732
CREATED:20190326T201347Z
LAST-MODIFIED:20190614T135102Z
UID:5476-1571529600-1571615999@www.putneyschool.org
SUMMARY:Travel Day\, students return by 7:30 pm
DESCRIPTION:
URL:https://www.putneyschool.org/event/travel-day-students-return-by-730-pm/
CATEGORIES:Veracross Events
END:VEVENT
BEGIN:VEVENT
DTSTART;VALUE=DATE:20191015
DTEND;VALUE=DATE:20191020
DTSTAMP:20260425T114732
CREATED:20190326T201347Z
LAST-MODIFIED:20190614T135102Z
UID:5475-1571097600-1571529599@www.putneyschool.org
SUMMARY:Mid-Fall Break
DESCRIPTION:
URL:https://www.putneyschool.org/event/mid-fall-break/
CATEGORIES:Veracross Events
END:VEVENT
BEGIN:VEVENT
DTSTART;VALUE=DATE:20191014
DTEND;VALUE=DATE:20191015
DTSTAMP:20260425T114732
CREATED:20190326T201347Z
LAST-MODIFIED:20190614T135102Z
UID:5474-1571011200-1571097599@www.putneyschool.org
SUMMARY:Travel Day\, dorms close 10:00 am
DESCRIPTION:
URL:https://www.putneyschool.org/event/travel-day-dorms-close-1000-am/
CATEGORIES:Veracross Events
END:VEVENT
BEGIN:VEVENT
DTSTART;TZID=America/New_York:20191012T203000
DTEND;TZID=America/New_York:20191012T213000
DTSTAMP:20260425T114732
CREATED:20190326T201347Z
LAST-MODIFIED:20190614T135102Z
UID:5473-1570912200-1570915800@www.putneyschool.org
SUMMARY:Bonfire
DESCRIPTION:
URL:https://www.putneyschool.org/event/bonfire-2/
CATEGORIES:Veracross Events
END:VEVENT
BEGIN:VEVENT
DTSTART;VALUE=DATE:20191013
DTEND;VALUE=DATE:20191014
DTSTAMP:20260425T114732
CREATED:20190326T201346Z
LAST-MODIFIED:20190614T135102Z
UID:5472-1570924800-1571011199@www.putneyschool.org
SUMMARY:Harvest Festival
DESCRIPTION:
URL:https://www.putneyschool.org/event/harvest-festival/
CATEGORIES:Veracross Events
END:VEVENT
END:VCALENDAR