BEGIN:VCALENDAR
VERSION:2.0
PRODID:-//The Putney School - ECPv6.15.20//NONSGML v1.0//EN
CALSCALE:GREGORIAN
METHOD:PUBLISH
X-WR-CALNAME:The Putney School
X-ORIGINAL-URL:https://www.putneyschool.org
X-WR-CALDESC:Events for The Putney School
REFRESH-INTERVAL;VALUE=DURATION:PT1H
X-Robots-Tag:noindex
X-PUBLISHED-TTL:PT1H
BEGIN:VTIMEZONE
TZID:America/New_York
BEGIN:DAYLIGHT
TZOFFSETFROM:-0500
TZOFFSETTO:-0400
TZNAME:EDT
DTSTART:20210314T070000
END:DAYLIGHT
BEGIN:STANDARD
TZOFFSETFROM:-0400
TZOFFSETTO:-0500
TZNAME:EST
DTSTART:20211107T060000
END:STANDARD
BEGIN:DAYLIGHT
TZOFFSETFROM:-0500
TZOFFSETTO:-0400
TZNAME:EDT
DTSTART:20220313T070000
END:DAYLIGHT
BEGIN:STANDARD
TZOFFSETFROM:-0400
TZOFFSETTO:-0500
TZNAME:EST
DTSTART:20221106T060000
END:STANDARD
BEGIN:DAYLIGHT
TZOFFSETFROM:-0500
TZOFFSETTO:-0400
TZNAME:EDT
DTSTART:20230312T070000
END:DAYLIGHT
BEGIN:STANDARD
TZOFFSETFROM:-0400
TZOFFSETTO:-0500
TZNAME:EST
DTSTART:20231105T060000
END:STANDARD
END:VTIMEZONE
BEGIN:VEVENT
DTSTART;VALUE=DATE:20220731
DTEND;VALUE=DATE:20220801
DTSTAMP:20260423T075206
CREATED:20210223T092430Z
LAST-MODIFIED:20210727T110820Z
UID:15892-1659225600-1659311999@www.putneyschool.org
SUMMARY:Summer Programs
DESCRIPTION:Summer Programs
URL:https://www.putneyschool.org/event/summer-programs-90/
CATEGORIES:All School Events
END:VEVENT
BEGIN:VEVENT
DTSTART;VALUE=DATE:20220730
DTEND;VALUE=DATE:20220731
DTSTAMP:20260423T075206
CREATED:20210803T110806Z
LAST-MODIFIED:20220607T181129Z
UID:19362-1659139200-1659225599@www.putneyschool.org
SUMMARY:Summer Program Students Depart
DESCRIPTION:Summer Program Students Depart
URL:https://www.putneyschool.org/event/summer-program-students-depart/
CATEGORIES:All School Events
END:VEVENT
BEGIN:VEVENT
DTSTART;VALUE=DATE:20220730
DTEND;VALUE=DATE:20220731
DTSTAMP:20260423T075206
CREATED:20210608T104108Z
LAST-MODIFIED:20220726T185549Z
UID:18136-1659139200-1659225599@www.putneyschool.org
SUMMARY:Summer Programs
DESCRIPTION:Summer Programs
URL:https://www.putneyschool.org/event/summer-programs-100/
CATEGORIES:All School Events
END:VEVENT
BEGIN:VEVENT
DTSTART;VALUE=DATE:20220729
DTEND;VALUE=DATE:20220730
DTSTAMP:20260423T075206
CREATED:20220614T182525Z
LAST-MODIFIED:20220726T185549Z
UID:26986-1659052800-1659139199@www.putneyschool.org
SUMMARY:Summer Program Students Depart
DESCRIPTION:Summer Program Students Depart
URL:https://www.putneyschool.org/event/summer-program-students-depart-2/
CATEGORIES:All School Events
END:VEVENT
BEGIN:VEVENT
DTSTART;VALUE=DATE:20220729
DTEND;VALUE=DATE:20220730
DTSTAMP:20260423T075206
CREATED:20210223T092429Z
LAST-MODIFIED:20220726T185549Z
UID:15891-1659052800-1659139199@www.putneyschool.org
SUMMARY:Summer Programs
DESCRIPTION:Summer Programs
URL:https://www.putneyschool.org/event/summer-programs-89/
CATEGORIES:All School Events
END:VEVENT
BEGIN:VEVENT
DTSTART;VALUE=DATE:20220728
DTEND;VALUE=DATE:20220729
DTSTAMP:20260423T075206
CREATED:20210223T092429Z
LAST-MODIFIED:20220726T185549Z
UID:15890-1658966400-1659052799@www.putneyschool.org
SUMMARY:Summer Programs
DESCRIPTION:Summer Programs
URL:https://www.putneyschool.org/event/summer-programs-88/
CATEGORIES:All School Events
END:VEVENT
BEGIN:VEVENT
DTSTART;VALUE=DATE:20220727
DTEND;VALUE=DATE:20220728
DTSTAMP:20260423T075206
CREATED:20210223T092429Z
LAST-MODIFIED:20220726T185549Z
UID:15889-1658880000-1658966399@www.putneyschool.org
SUMMARY:Summer Programs
DESCRIPTION:Summer Programs
URL:https://www.putneyschool.org/event/summer-programs-87/
CATEGORIES:All School Events
END:VEVENT
BEGIN:VEVENT
DTSTART;VALUE=DATE:20220726
DTEND;VALUE=DATE:20220727
DTSTAMP:20260423T075206
CREATED:20210223T092429Z
LAST-MODIFIED:20220719T185639Z
UID:15888-1658793600-1658879999@www.putneyschool.org
SUMMARY:Summer Programs
DESCRIPTION:Summer Programs
URL:https://www.putneyschool.org/event/summer-programs-86/
CATEGORIES:All School Events
END:VEVENT
BEGIN:VEVENT
DTSTART;VALUE=DATE:20220725
DTEND;VALUE=DATE:20220726
DTSTAMP:20260423T075206
CREATED:20210223T092429Z
LAST-MODIFIED:20220719T185639Z
UID:15887-1658707200-1658793599@www.putneyschool.org
SUMMARY:Summer Programs
DESCRIPTION:Summer Programs
URL:https://www.putneyschool.org/event/summer-programs-85/
CATEGORIES:All School Events
END:VEVENT
BEGIN:VEVENT
DTSTART;VALUE=DATE:20220724
DTEND;VALUE=DATE:20220725
DTSTAMP:20260423T075206
CREATED:20210223T092429Z
LAST-MODIFIED:20220719T185639Z
UID:15886-1658620800-1658707199@www.putneyschool.org
SUMMARY:Summer Programs
DESCRIPTION:Summer Programs
URL:https://www.putneyschool.org/event/summer-programs-84/
CATEGORIES:All School Events
END:VEVENT
BEGIN:VEVENT
DTSTART;VALUE=DATE:20220723
DTEND;VALUE=DATE:20220724
DTSTAMP:20260423T075206
CREATED:20210608T104107Z
LAST-MODIFIED:20220719T185639Z
UID:18135-1658534400-1658620799@www.putneyschool.org
SUMMARY:Summer Programs
DESCRIPTION:Summer Programs
URL:https://www.putneyschool.org/event/summer-programs-99/
CATEGORIES:All School Events
END:VEVENT
BEGIN:VEVENT
DTSTART;VALUE=DATE:20220722
DTEND;VALUE=DATE:20220723
DTSTAMP:20260423T075206
CREATED:20210223T092428Z
LAST-MODIFIED:20220719T185639Z
UID:15885-1658448000-1658534399@www.putneyschool.org
SUMMARY:Summer Programs
DESCRIPTION:Summer Programs
URL:https://www.putneyschool.org/event/summer-programs-83/
CATEGORIES:All School Events
END:VEVENT
BEGIN:VEVENT
DTSTART;VALUE=DATE:20220721
DTEND;VALUE=DATE:20220722
DTSTAMP:20260423T075206
CREATED:20210223T092428Z
LAST-MODIFIED:20220719T185639Z
UID:15884-1658361600-1658447999@www.putneyschool.org
SUMMARY:Summer Programs
DESCRIPTION:Summer Programs
URL:https://www.putneyschool.org/event/summer-programs-82/
CATEGORIES:All School Events
END:VEVENT
BEGIN:VEVENT
DTSTART;VALUE=DATE:20220720
DTEND;VALUE=DATE:20220721
DTSTAMP:20260423T075206
CREATED:20210223T092428Z
LAST-MODIFIED:20220719T185639Z
UID:15883-1658275200-1658361599@www.putneyschool.org
SUMMARY:Summer Programs
DESCRIPTION:Summer Programs
URL:https://www.putneyschool.org/event/summer-programs-81/
CATEGORIES:All School Events
END:VEVENT
BEGIN:VEVENT
DTSTART;VALUE=DATE:20220719
DTEND;VALUE=DATE:20220720
DTSTAMP:20260423T075206
CREATED:20210223T092428Z
LAST-MODIFIED:20220712T184132Z
UID:15882-1658188800-1658275199@www.putneyschool.org
SUMMARY:Summer Programs
DESCRIPTION:Summer Programs
URL:https://www.putneyschool.org/event/summer-programs-80/
CATEGORIES:All School Events
END:VEVENT
BEGIN:VEVENT
DTSTART;VALUE=DATE:20220718
DTEND;VALUE=DATE:20220719
DTSTAMP:20260423T075206
CREATED:20210223T092428Z
LAST-MODIFIED:20220712T184131Z
UID:15881-1658102400-1658188799@www.putneyschool.org
SUMMARY:Summer Programs
DESCRIPTION:Summer Programs
URL:https://www.putneyschool.org/event/summer-programs-79/
CATEGORIES:All School Events
END:VEVENT
BEGIN:VEVENT
DTSTART;VALUE=DATE:20220717
DTEND;VALUE=DATE:20220718
DTSTAMP:20260423T075206
CREATED:20210223T092427Z
LAST-MODIFIED:20220712T184131Z
UID:15880-1658016000-1658102399@www.putneyschool.org
SUMMARY:Summer Programs
DESCRIPTION:Summer Programs
URL:https://www.putneyschool.org/event/summer-programs-78/
CATEGORIES:All School Events
END:VEVENT
BEGIN:VEVENT
DTSTART;VALUE=DATE:20220716
DTEND;VALUE=DATE:20220717
DTSTAMP:20260423T075206
CREATED:20210608T104106Z
LAST-MODIFIED:20220712T184131Z
UID:18134-1657929600-1658015999@www.putneyschool.org
SUMMARY:Summer Programs
DESCRIPTION:Summer Programs
URL:https://www.putneyschool.org/event/summer-programs-98/
CATEGORIES:All School Events
END:VEVENT
BEGIN:VEVENT
DTSTART;VALUE=DATE:20220716
DTEND;VALUE=DATE:20220717
DTSTAMP:20260423T075206
CREATED:20210330T095256Z
LAST-MODIFIED:20220712T184131Z
UID:17135-1657929600-1658015999@www.putneyschool.org
SUMMARY:ACT
DESCRIPTION:ACT
URL:https://www.putneyschool.org/event/act-14/
CATEGORIES:All School Events
END:VEVENT
BEGIN:VEVENT
DTSTART;VALUE=DATE:20220715
DTEND;VALUE=DATE:20220716
DTSTAMP:20260423T075206
CREATED:20210223T092427Z
LAST-MODIFIED:20220712T184131Z
UID:15879-1657843200-1657929599@www.putneyschool.org
SUMMARY:Summer Programs
DESCRIPTION:Summer Programs
URL:https://www.putneyschool.org/event/summer-programs-77/
CATEGORIES:All School Events
END:VEVENT
BEGIN:VEVENT
DTSTART;VALUE=DATE:20220714
DTEND;VALUE=DATE:20220715
DTSTAMP:20260423T075206
CREATED:20210223T092427Z
LAST-MODIFIED:20220712T184131Z
UID:15878-1657756800-1657843199@www.putneyschool.org
SUMMARY:Summer Programs
DESCRIPTION:Summer Programs
URL:https://www.putneyschool.org/event/summer-programs-76/
CATEGORIES:All School Events
END:VEVENT
BEGIN:VEVENT
DTSTART;VALUE=DATE:20220713
DTEND;VALUE=DATE:20220714
DTSTAMP:20260423T075206
CREATED:20210223T092427Z
LAST-MODIFIED:20220712T184131Z
UID:15877-1657670400-1657756799@www.putneyschool.org
SUMMARY:Summer Programs
DESCRIPTION:Summer Programs
URL:https://www.putneyschool.org/event/summer-programs-75/
CATEGORIES:All School Events
END:VEVENT
BEGIN:VEVENT
DTSTART;VALUE=DATE:20220712
DTEND;VALUE=DATE:20220713
DTSTAMP:20260423T075206
CREATED:20210223T092427Z
LAST-MODIFIED:20220705T184206Z
UID:15876-1657584000-1657670399@www.putneyschool.org
SUMMARY:Summer Programs
DESCRIPTION:Summer Programs
URL:https://www.putneyschool.org/event/summer-programs-74/
CATEGORIES:All School Events
END:VEVENT
BEGIN:VEVENT
DTSTART;VALUE=DATE:20220711
DTEND;VALUE=DATE:20220712
DTSTAMP:20260423T075206
CREATED:20210223T092427Z
LAST-MODIFIED:20220705T184206Z
UID:15875-1657497600-1657583999@www.putneyschool.org
SUMMARY:Summer Programs
DESCRIPTION:Summer Programs
URL:https://www.putneyschool.org/event/summer-programs-73/
CATEGORIES:All School Events
END:VEVENT
BEGIN:VEVENT
DTSTART;VALUE=DATE:20220710
DTEND;VALUE=DATE:20220711
DTSTAMP:20260423T075206
CREATED:20210223T092426Z
LAST-MODIFIED:20220705T184206Z
UID:15874-1657411200-1657497599@www.putneyschool.org
SUMMARY:Summer Programs
DESCRIPTION:Summer Programs
URL:https://www.putneyschool.org/event/summer-programs-72/
CATEGORIES:All School Events
END:VEVENT
BEGIN:VEVENT
DTSTART;VALUE=DATE:20220709
DTEND;VALUE=DATE:20220710
DTSTAMP:20260423T075206
CREATED:20210608T104106Z
LAST-MODIFIED:20220705T184206Z
UID:18133-1657324800-1657411199@www.putneyschool.org
SUMMARY:Summer Programs
DESCRIPTION:Summer Programs
URL:https://www.putneyschool.org/event/summer-programs-97/
CATEGORIES:All School Events
END:VEVENT
BEGIN:VEVENT
DTSTART;VALUE=DATE:20220708
DTEND;VALUE=DATE:20220709
DTSTAMP:20260423T075206
CREATED:20210223T092426Z
LAST-MODIFIED:20220705T184206Z
UID:15873-1657238400-1657324799@www.putneyschool.org
SUMMARY:Summer Programs
DESCRIPTION:Summer Programs
URL:https://www.putneyschool.org/event/summer-programs-71/
CATEGORIES:All School Events
END:VEVENT
BEGIN:VEVENT
DTSTART;VALUE=DATE:20220707
DTEND;VALUE=DATE:20220708
DTSTAMP:20260423T075206
CREATED:20210223T092426Z
LAST-MODIFIED:20220705T184206Z
UID:15872-1657152000-1657238399@www.putneyschool.org
SUMMARY:Summer Programs
DESCRIPTION:Summer Programs
URL:https://www.putneyschool.org/event/summer-programs-70/
CATEGORIES:All School Events
END:VEVENT
BEGIN:VEVENT
DTSTART;VALUE=DATE:20220706
DTEND;VALUE=DATE:20220707
DTSTAMP:20260423T075206
CREATED:20210223T092426Z
LAST-MODIFIED:20220705T184206Z
UID:15871-1657065600-1657151999@www.putneyschool.org
SUMMARY:Summer Programs
DESCRIPTION:Summer Programs
URL:https://www.putneyschool.org/event/summer-programs-69/
CATEGORIES:All School Events
END:VEVENT
BEGIN:VEVENT
DTSTART;VALUE=DATE:20220705
DTEND;VALUE=DATE:20220706
DTSTAMP:20260423T075206
CREATED:20210223T092426Z
LAST-MODIFIED:20220628T182538Z
UID:15870-1656979200-1657065599@www.putneyschool.org
SUMMARY:Summer Programs
DESCRIPTION:Summer Programs
URL:https://www.putneyschool.org/event/summer-programs-68/
CATEGORIES:All School Events
END:VEVENT
END:VCALENDAR