BEGIN:VCALENDAR
VERSION:2.0
PRODID:-//The Putney School - ECPv6.15.20//NONSGML v1.0//EN
CALSCALE:GREGORIAN
METHOD:PUBLISH
X-ORIGINAL-URL:https://www.putneyschool.org
X-WR-CALDESC:Events for The Putney School
REFRESH-INTERVAL;VALUE=DURATION:PT1H
X-Robots-Tag:noindex
X-PUBLISHED-TTL:PT1H
BEGIN:VTIMEZONE
TZID:America/New_York
BEGIN:DAYLIGHT
TZOFFSETFROM:-0500
TZOFFSETTO:-0400
TZNAME:EDT
DTSTART:20240310T070000
END:DAYLIGHT
BEGIN:STANDARD
TZOFFSETFROM:-0400
TZOFFSETTO:-0500
TZNAME:EST
DTSTART:20241103T060000
END:STANDARD
BEGIN:DAYLIGHT
TZOFFSETFROM:-0500
TZOFFSETTO:-0400
TZNAME:EDT
DTSTART:20250309T070000
END:DAYLIGHT
BEGIN:STANDARD
TZOFFSETFROM:-0400
TZOFFSETTO:-0500
TZNAME:EST
DTSTART:20251102T060000
END:STANDARD
BEGIN:DAYLIGHT
TZOFFSETFROM:-0500
TZOFFSETTO:-0400
TZNAME:EDT
DTSTART:20260308T070000
END:DAYLIGHT
BEGIN:STANDARD
TZOFFSETFROM:-0400
TZOFFSETTO:-0500
TZNAME:EST
DTSTART:20261101T060000
END:STANDARD
END:VTIMEZONE
BEGIN:VEVENT
DTSTART;VALUE=DATE:20250519
DTEND;VALUE=DATE:20250520
DTSTAMP:20260420T191423
CREATED:20240725T174600Z
LAST-MODIFIED:20241017T195800Z
UID:43554-1747612800-1747699199@www.putneyschool.org
SUMMARY:Exhibition Day
DESCRIPTION:Exhibition Day
URL:https://www.putneyschool.org/event/exhibition-day-6/
CATEGORIES:All School Events
END:VEVENT
BEGIN:VEVENT
DTSTART;VALUE=DATE:20250520
DTEND;VALUE=DATE:20250521
DTSTAMP:20260420T191423
CREATED:20240725T174600Z
LAST-MODIFIED:20241017T195801Z
UID:43555-1747699200-1747785599@www.putneyschool.org
SUMMARY:Exhibition Day
DESCRIPTION:Exhibition Day
URL:https://www.putneyschool.org/event/exhibition-day-7/
CATEGORIES:All School Events
END:VEVENT
BEGIN:VEVENT
DTSTART;VALUE=DATE:20250601
DTEND;VALUE=DATE:20250602
DTSTAMP:20260420T191423
CREATED:20240117T021416Z
LAST-MODIFIED:20241017T195801Z
UID:38842-1748736000-1748822399@www.putneyschool.org
SUMMARY:Graduation - dorms close at 5:00
DESCRIPTION:Graduation – dorms close at 5:00
URL:https://www.putneyschool.org/event/graduation-dorma-close-at-500/
CATEGORIES:All School Events
END:VEVENT
BEGIN:VEVENT
DTSTART;VALUE=DATE:20250606
DTEND;VALUE=DATE:20250607
DTSTAMP:20260420T191423
CREATED:20240725T174601Z
LAST-MODIFIED:20241017T195801Z
UID:43556-1749168000-1749254399@www.putneyschool.org
SUMMARY:Reunions
DESCRIPTION:Reunions
URL:https://www.putneyschool.org/event/reunions-12/
CATEGORIES:All School Events
END:VEVENT
BEGIN:VEVENT
DTSTART;VALUE=DATE:20250607
DTEND;VALUE=DATE:20250608
DTSTAMP:20260420T191423
CREATED:20240725T174601Z
LAST-MODIFIED:20241017T195801Z
UID:43557-1749254400-1749340799@www.putneyschool.org
SUMMARY:Reunions
DESCRIPTION:Reunions
URL:https://www.putneyschool.org/event/reunions-13/
CATEGORIES:All School Events
END:VEVENT
BEGIN:VEVENT
DTSTART;VALUE=DATE:20250608
DTEND;VALUE=DATE:20250609
DTSTAMP:20260420T191423
CREATED:20240725T174601Z
LAST-MODIFIED:20241017T195801Z
UID:43558-1749340800-1749427199@www.putneyschool.org
SUMMARY:Reunions
DESCRIPTION:Reunions
URL:https://www.putneyschool.org/event/reunions-14/
CATEGORIES:All School Events
END:VEVENT
END:VCALENDAR