BEGIN:VCALENDAR
VERSION:2.0
PRODID:-//The Putney School - ECPv6.15.20//NONSGML v1.0//EN
CALSCALE:GREGORIAN
METHOD:PUBLISH
X-WR-CALNAME:The Putney School
X-ORIGINAL-URL:https://www.putneyschool.org
X-WR-CALDESC:Events for The Putney School
REFRESH-INTERVAL;VALUE=DURATION:PT1H
X-Robots-Tag:noindex
X-PUBLISHED-TTL:PT1H
BEGIN:VTIMEZONE
TZID:America/New_York
BEGIN:DAYLIGHT
TZOFFSETFROM:-0500
TZOFFSETTO:-0400
TZNAME:EDT
DTSTART:20210314T070000
END:DAYLIGHT
BEGIN:STANDARD
TZOFFSETFROM:-0400
TZOFFSETTO:-0500
TZNAME:EST
DTSTART:20211107T060000
END:STANDARD
BEGIN:DAYLIGHT
TZOFFSETFROM:-0500
TZOFFSETTO:-0400
TZNAME:EDT
DTSTART:20220313T070000
END:DAYLIGHT
BEGIN:STANDARD
TZOFFSETFROM:-0400
TZOFFSETTO:-0500
TZNAME:EST
DTSTART:20221106T060000
END:STANDARD
BEGIN:DAYLIGHT
TZOFFSETFROM:-0500
TZOFFSETTO:-0400
TZNAME:EDT
DTSTART:20230312T070000
END:DAYLIGHT
BEGIN:STANDARD
TZOFFSETFROM:-0400
TZOFFSETTO:-0500
TZNAME:EST
DTSTART:20231105T060000
END:STANDARD
END:VTIMEZONE
BEGIN:VEVENT
DTSTART;VALUE=DATE:20220627
DTEND;VALUE=DATE:20220628
DTSTAMP:20260425T215102
CREATED:20210223T092424Z
LAST-MODIFIED:20210727T110816Z
UID:15863-1656288000-1656374399@www.putneyschool.org
SUMMARY:Summer Programs
DESCRIPTION:Summer Programs
URL:https://www.putneyschool.org/event/summer-programs-61/
CATEGORIES:All School Events
END:VEVENT
BEGIN:VEVENT
DTSTART;VALUE=DATE:20220626
DTEND;VALUE=DATE:20220627
DTSTAMP:20260425T215102
CREATED:20210223T092424Z
LAST-MODIFIED:20210727T110816Z
UID:15862-1656201600-1656287999@www.putneyschool.org
SUMMARY:Summer Programs
DESCRIPTION:Summer Programs
URL:https://www.putneyschool.org/event/summer-programs-60/
CATEGORIES:All School Events
END:VEVENT
BEGIN:VEVENT
DTSTART;VALUE=DATE:20220625
DTEND;VALUE=DATE:20220626
DTSTAMP:20260425T215102
CREATED:20210803T110803Z
LAST-MODIFIED:20220621T182609Z
UID:19360-1656115200-1656201599@www.putneyschool.org
SUMMARY:Summer Programs Staff Arrive
DESCRIPTION:Summer Programs Staff Arrive
URL:https://www.putneyschool.org/event/summer-programs-staff-arrive-3/
CATEGORIES:All School Events
END:VEVENT
BEGIN:VEVENT
DTSTART;VALUE=DATE:20220619
DTEND;VALUE=DATE:20220620
DTSTAMP:20260425T215102
CREATED:20210608T104020Z
LAST-MODIFIED:20210727T110816Z
UID:18131-1655596800-1655683199@www.putneyschool.org
SUMMARY:Summer Programs Staff Arrive
DESCRIPTION:Summer Programs Staff Arrive
URL:https://www.putneyschool.org/event/summer-programs-staff-arrive-2/
CATEGORIES:All School Events
END:VEVENT
BEGIN:VEVENT
DTSTART;VALUE=DATE:20220612
DTEND;VALUE=DATE:20220613
DTSTAMP:20260425T215102
CREATED:20210608T104020Z
LAST-MODIFIED:20220607T181127Z
UID:18129-1654992000-1655078399@www.putneyschool.org
SUMMARY:Reunions
DESCRIPTION:Reunions
URL:https://www.putneyschool.org/event/reunions-8/
CATEGORIES:All School Events
END:VEVENT
BEGIN:VEVENT
DTSTART;VALUE=DATE:20220612
DTEND;VALUE=DATE:20220613
DTSTAMP:20260425T215102
CREATED:20210608T104020Z
LAST-MODIFIED:20220607T181127Z
UID:18130-1654992000-1655078399@www.putneyschool.org
SUMMARY:Trustee Meeting (campus)
DESCRIPTION:Trustee Meeting (campus)
URL:https://www.putneyschool.org/event/trustee-meeting-campus-4/
CATEGORIES:All School Events
END:VEVENT
BEGIN:VEVENT
DTSTART;VALUE=DATE:20220611
DTEND;VALUE=DATE:20220612
DTSTAMP:20260425T215102
CREATED:20210608T104020Z
LAST-MODIFIED:20220607T181127Z
UID:18128-1654905600-1654991999@www.putneyschool.org
SUMMARY:Reunions
DESCRIPTION:Reunions
URL:https://www.putneyschool.org/event/reunions-7/
CATEGORIES:All School Events
END:VEVENT
BEGIN:VEVENT
DTSTART;VALUE=DATE:20220611
DTEND;VALUE=DATE:20220612
DTSTAMP:20260425T215102
CREATED:20210608T104019Z
LAST-MODIFIED:20220607T181127Z
UID:18127-1654905600-1654991999@www.putneyschool.org
SUMMARY:Trustee Meeting (campus)
DESCRIPTION:Trustee Meeting (campus)
URL:https://www.putneyschool.org/event/trustee-meeting-campus-3/
CATEGORIES:All School Events
END:VEVENT
BEGIN:VEVENT
DTSTART;VALUE=DATE:20220611
DTEND;VALUE=DATE:20220612
DTSTAMP:20260425T215102
CREATED:20210330T095255Z
LAST-MODIFIED:20220607T181127Z
UID:17134-1654905600-1654991999@www.putneyschool.org
SUMMARY:ACT
DESCRIPTION:ACT
URL:https://www.putneyschool.org/event/act-13/
CATEGORIES:All School Events
END:VEVENT
BEGIN:VEVENT
DTSTART;VALUE=DATE:20220610
DTEND;VALUE=DATE:20220611
DTSTAMP:20260425T215102
CREATED:20210608T104019Z
LAST-MODIFIED:20220607T181127Z
UID:18126-1654819200-1654905599@www.putneyschool.org
SUMMARY:Reunions
DESCRIPTION:Reunions
URL:https://www.putneyschool.org/event/reunions-6/
CATEGORIES:All School Events
END:VEVENT
BEGIN:VEVENT
DTSTART;VALUE=DATE:20220609
DTEND;VALUE=DATE:20220610
DTSTAMP:20260425T215102
CREATED:20210608T104019Z
LAST-MODIFIED:20220607T181126Z
UID:18125-1654732800-1654819199@www.putneyschool.org
SUMMARY:Reunions
DESCRIPTION:Reunions
URL:https://www.putneyschool.org/event/reunions-5/
CATEGORIES:All School Events
END:VEVENT
BEGIN:VEVENT
DTSTART;TZID=America/New_York:20220608T090000
DTEND;TZID=America/New_York:20220608T090000
DTSTAMP:20260425T215102
CREATED:20211130T165653Z
LAST-MODIFIED:20220607T181126Z
UID:23199-1654678800-1654678800@www.putneyschool.org
SUMMARY:Report Proofreading
DESCRIPTION:Report Proofreading
URL:https://www.putneyschool.org/event/report-proofreading-2/
CATEGORIES:All School Events
END:VEVENT
BEGIN:VEVENT
DTSTART;VALUE=DATE:20220608
DTEND;VALUE=DATE:20220609
DTSTAMP:20260425T215102
CREATED:20210608T104019Z
LAST-MODIFIED:20211123T165523Z
UID:18124-1654646400-1654732799@www.putneyschool.org
SUMMARY:Report Proofreading
DESCRIPTION:Report Proofreading
URL:https://www.putneyschool.org/event/report-proofreading/
CATEGORIES:All School Events
END:VEVENT
BEGIN:VEVENT
DTSTART;VALUE=DATE:20220606
DTEND;VALUE=DATE:20220607
DTSTAMP:20260425T215102
CREATED:20211130T165653Z
LAST-MODIFIED:20220531T181059Z
UID:23198-1654473600-1654559999@www.putneyschool.org
SUMMARY:Report Writing Day
DESCRIPTION:Report Writing Day
URL:https://www.putneyschool.org/event/report-writing-day-4/
CATEGORIES:All School Events
END:VEVENT
BEGIN:VEVENT
DTSTART;TZID=America/New_York:20220605T170000
DTEND;TZID=America/New_York:20220605T170000
DTSTAMP:20260425T215102
CREATED:20220524T181126Z
LAST-MODIFIED:20220531T181058Z
UID:26287-1654448400-1654448400@www.putneyschool.org
SUMMARY:Dorms Close
DESCRIPTION:Dorms Close
URL:https://www.putneyschool.org/event/dorms-close-2/
CATEGORIES:All School Events
END:VEVENT
BEGIN:VEVENT
DTSTART;TZID=America/New_York:20220605T120000
DTEND;TZID=America/New_York:20220605T120000
DTSTAMP:20260425T215102
CREATED:20220524T181126Z
LAST-MODIFIED:20220531T181058Z
UID:26286-1654430400-1654430400@www.putneyschool.org
SUMMARY:Lunch
DESCRIPTION:Lunch
URL:https://www.putneyschool.org/event/lunch-4/
CATEGORIES:All School Events
END:VEVENT
BEGIN:VEVENT
DTSTART;TZID=America/New_York:20220605T103000
DTEND;TZID=America/New_York:20220605T103000
DTSTAMP:20260425T215102
CREATED:20220412T181020Z
LAST-MODIFIED:20220531T181058Z
UID:25247-1654425000-1654425000@www.putneyschool.org
SUMMARY:Graduation
DESCRIPTION:Graduation
URL:https://www.putneyschool.org/event/graduation-7/
CATEGORIES:All School Events
END:VEVENT
BEGIN:VEVENT
DTSTART;TZID=America/New_York:20220605T083000
DTEND;TZID=America/New_York:20220605T103000
DTSTAMP:20260425T215102
CREATED:20220524T181126Z
LAST-MODIFIED:20220531T181058Z
UID:26285-1654417800-1654425000@www.putneyschool.org
SUMMARY:Brunch in KDU - all welcome
DESCRIPTION:Brunch in KDU – all welcome
URL:https://www.putneyschool.org/event/brunch-in-kdu-all-welcome/
CATEGORIES:All School Events
END:VEVENT
BEGIN:VEVENT
DTSTART;TZID=America/New_York:20220605T080000
DTEND;TZID=America/New_York:20220605T090000
DTSTAMP:20260425T215102
CREATED:20220412T181019Z
LAST-MODIFIED:20220531T181058Z
UID:25246-1654416000-1654419600@www.putneyschool.org
SUMMARY:Diploma Viewing in Currier
DESCRIPTION:Diploma Viewing in Currier
URL:https://www.putneyschool.org/event/diploma-viewing-in-currier/
CATEGORIES:All School Events
END:VEVENT
BEGIN:VEVENT
DTSTART;VALUE=DATE:20220605
DTEND;VALUE=DATE:20220606
DTSTAMP:20260425T215102
CREATED:20210608T104019Z
LAST-MODIFIED:20220405T181039Z
UID:18123-1654387200-1654473599@www.putneyschool.org
SUMMARY:Graduation
DESCRIPTION:Graduation
URL:https://www.putneyschool.org/event/graduation-6/
CATEGORIES:All School Events
END:VEVENT
BEGIN:VEVENT
DTSTART;TZID=America/New_York:20220604T180000
DTEND;TZID=America/New_York:20220604T180000
DTSTAMP:20260425T215102
CREATED:20220524T181126Z
LAST-MODIFIED:20220531T181058Z
UID:26284-1654365600-1654365600@www.putneyschool.org
SUMMARY:Dinner for Seniors and their families
DESCRIPTION:Dinner for Seniors and their families
URL:https://www.putneyschool.org/event/dinner-for-seniors-and-their-families/
LOCATION:Lower Farm
CATEGORIES:All School Events
END:VEVENT
BEGIN:VEVENT
DTSTART;TZID=America/New_York:20220604T163000
DTEND;TZID=America/New_York:20220604T163000
DTSTAMP:20260425T215102
CREATED:20220524T181126Z
LAST-MODIFIED:20220531T181058Z
UID:26282-1654360200-1654360200@www.putneyschool.org
SUMMARY:Graduation Rehearsal for Seniors
DESCRIPTION:Graduation Rehearsal for Seniors
URL:https://www.putneyschool.org/event/graduation-rehearsal-for-seniors-2/
LOCATION:East Lawn
CATEGORIES:All School Events
END:VEVENT
BEGIN:VEVENT
DTSTART;VALUE=DATE:20220604
DTEND;VALUE=DATE:20220605
DTSTAMP:20260425T215102
CREATED:20210608T104019Z
LAST-MODIFIED:20220531T181058Z
UID:18122-1654300800-1654387199@www.putneyschool.org
SUMMARY:Project Week Presentations and Performances
DESCRIPTION:Project Week Presentations and Performances
URL:https://www.putneyschool.org/event/project-week-presentations-and-performances-4/
CATEGORIES:All School Events
END:VEVENT
BEGIN:VEVENT
DTSTART;VALUE=DATE:20220604
DTEND;VALUE=DATE:20220605
DTSTAMP:20260425T215102
CREATED:20210330T095255Z
LAST-MODIFIED:20220531T181058Z
UID:17133-1654300800-1654387199@www.putneyschool.org
SUMMARY:SAT
DESCRIPTION:SAT
URL:https://www.putneyschool.org/event/sat-11/
CATEGORIES:All School Events
END:VEVENT
BEGIN:VEVENT
DTSTART;VALUE=DATE:20220530
DTEND;VALUE=DATE:20220531
DTSTAMP:20260425T215102
CREATED:20211130T165653Z
LAST-MODIFIED:20220524T181126Z
UID:23197-1653868800-1653955199@www.putneyschool.org
SUMMARY:Report Writing Day
DESCRIPTION:Report Writing Day
URL:https://www.putneyschool.org/event/report-writing-day-3/
CATEGORIES:All School Events
END:VEVENT
BEGIN:VEVENT
DTSTART;VALUE=DATE:20220524
DTEND;VALUE=DATE:20220525
DTSTAMP:20260425T215102
CREATED:20210608T104019Z
LAST-MODIFIED:20220517T181158Z
UID:18121-1653350400-1653436799@www.putneyschool.org
SUMMARY:Exhibition Day
DESCRIPTION:Exhibition Day
URL:https://www.putneyschool.org/event/exhibition-day-4/
CATEGORIES:All School Events
END:VEVENT
BEGIN:VEVENT
DTSTART;VALUE=DATE:20220523
DTEND;VALUE=DATE:20220524
DTSTAMP:20260425T215102
CREATED:20220329T181023Z
LAST-MODIFIED:20220517T181158Z
UID:25002-1653264000-1653350399@www.putneyschool.org
SUMMARY:Exhibition Presentations
DESCRIPTION:Exhibition Presentations
URL:https://www.putneyschool.org/event/exhibition-presentations-3/
CATEGORIES:All School Events
END:VEVENT
BEGIN:VEVENT
DTSTART;VALUE=DATE:20220522
DTEND;VALUE=DATE:20220523
DTSTAMP:20260425T215102
CREATED:20220329T181023Z
LAST-MODIFIED:20220517T181158Z
UID:25001-1653177600-1653263999@www.putneyschool.org
SUMMARY:Exhibition Presentations
DESCRIPTION:Exhibition Presentations
URL:https://www.putneyschool.org/event/exhibition-presentations-2/
CATEGORIES:All School Events
END:VEVENT
BEGIN:VEVENT
DTSTART;VALUE=DATE:20220521
DTEND;VALUE=DATE:20220522
DTSTAMP:20260425T215102
CREATED:20220301T174109Z
LAST-MODIFIED:20220322T175753Z
UID:24624-1653091200-1653177599@www.putneyschool.org
SUMMARY:Exhibition Presentations
DESCRIPTION:Exhibition Presentations
URL:https://www.putneyschool.org/event/exhibition-presentations/
CATEGORIES:All School Events
END:VEVENT
BEGIN:VEVENT
DTSTART;TZID=America/New_York:20220515T150000
DTEND;TZID=America/New_York:20220515T170000
DTSTAMP:20260425T215102
CREATED:20220412T181019Z
LAST-MODIFIED:20220510T181022Z
UID:25245-1652626800-1652634000@www.putneyschool.org
SUMMARY:Keene Chamber Orchestra Concert in Calder Hall
DESCRIPTION:Keene Chamber Orchestra Concert in Calder Hall
URL:https://www.putneyschool.org/event/keene-chamber-orchestra-concert-in-calder-hall/
LOCATION:Calder Hall
CATEGORIES:All School Events
END:VEVENT
END:VCALENDAR