BEGIN:VCALENDAR
VERSION:2.0
PRODID:-//The Putney School - ECPv6.15.20//NONSGML v1.0//EN
CALSCALE:GREGORIAN
METHOD:PUBLISH
X-WR-CALNAME:The Putney School
X-ORIGINAL-URL:https://www.putneyschool.org
X-WR-CALDESC:Events for The Putney School
REFRESH-INTERVAL;VALUE=DURATION:PT1H
X-Robots-Tag:noindex
X-PUBLISHED-TTL:PT1H
BEGIN:VTIMEZONE
TZID:America/New_York
BEGIN:DAYLIGHT
TZOFFSETFROM:-0500
TZOFFSETTO:-0400
TZNAME:EDT
DTSTART:20230312T070000
END:DAYLIGHT
BEGIN:STANDARD
TZOFFSETFROM:-0400
TZOFFSETTO:-0500
TZNAME:EST
DTSTART:20231105T060000
END:STANDARD
BEGIN:DAYLIGHT
TZOFFSETFROM:-0500
TZOFFSETTO:-0400
TZNAME:EDT
DTSTART:20240310T070000
END:DAYLIGHT
BEGIN:STANDARD
TZOFFSETFROM:-0400
TZOFFSETTO:-0500
TZNAME:EST
DTSTART:20241103T060000
END:STANDARD
BEGIN:DAYLIGHT
TZOFFSETFROM:-0500
TZOFFSETTO:-0400
TZNAME:EDT
DTSTART:20250309T070000
END:DAYLIGHT
BEGIN:STANDARD
TZOFFSETFROM:-0400
TZOFFSETTO:-0500
TZNAME:EST
DTSTART:20251102T060000
END:STANDARD
END:VTIMEZONE
BEGIN:VEVENT
DTSTART;VALUE=DATE:20240901
DTEND;VALUE=DATE:20240902
DTSTAMP:20260424T222505
CREATED:20240725T174548Z
LAST-MODIFIED:20240829T184234Z
UID:43508-1725148800-1725235199@www.putneyschool.org
SUMMARY:Returning Students Arrive
DESCRIPTION:Returning Students Arrive
URL:https://www.putneyschool.org/event/returning-students-arrive-3/
CATEGORIES:All School Events
END:VEVENT
BEGIN:VEVENT
DTSTART;VALUE=DATE:20240911
DTEND;VALUE=DATE:20240912
DTSTAMP:20260424T222505
CREATED:20240613T163246Z
LAST-MODIFIED:20240905T190004Z
UID:42147-1726012800-1726099199@www.putneyschool.org
SUMMARY:XC @ BART
DESCRIPTION:XC @ BART
URL:https://www.putneyschool.org/event/xc-bart/
CATEGORIES:All School Events
END:VEVENT
BEGIN:VEVENT
DTSTART;TZID=America/New_York:20240911T153000
DTEND;TZID=America/New_York:20240911T153000
DTSTAMP:20260424T222505
CREATED:20240822T182648Z
LAST-MODIFIED:20240905T190005Z
UID:44801-1726068600-1726068600@www.putneyschool.org
SUMMARY:XC @ Bart
DESCRIPTION:XC @ Bart
URL:https://www.putneyschool.org/event/xc-bart-2/
CATEGORIES:All School Events
END:VEVENT
BEGIN:VEVENT
DTSTART;TZID=America/New_York:20240914T143000
DTEND;TZID=America/New_York:20240914T143000
DTSTAMP:20260424T222505
CREATED:20240822T182649Z
LAST-MODIFIED:20240912T191338Z
UID:44802-1726324200-1726324200@www.putneyschool.org
SUMMARY:Open vs NMH
DESCRIPTION:Open vs NMH
URL:https://www.putneyschool.org/event/open-vs-nmh/
LOCATION:Athletic Fields
CATEGORIES:All School Events
END:VEVENT
BEGIN:VEVENT
DTSTART;TZID=America/New_York:20240918T153000
DTEND;TZID=America/New_York:20240918T153000
DTSTAMP:20260424T222505
CREATED:20240822T182649Z
LAST-MODIFIED:20240912T191338Z
UID:44803-1726673400-1726673400@www.putneyschool.org
SUMMARY:XC @ Hartsbrook
DESCRIPTION:XC @ Hartsbrook
URL:https://www.putneyschool.org/event/xc-hartsbrook/
CATEGORIES:All School Events
END:VEVENT
BEGIN:VEVENT
DTSTART;TZID=America/New_York:20240918T160000
DTEND;TZID=America/New_York:20240918T160000
DTSTAMP:20260424T222505
CREATED:20240822T182649Z
LAST-MODIFIED:20240912T191338Z
UID:44804-1726675200-1726675200@www.putneyschool.org
SUMMARY:Open vs St. Michaels
DESCRIPTION:Open vs St. Michaels
URL:https://www.putneyschool.org/event/open-vs-st-michaels/
LOCATION:Athletic Fields
CATEGORIES:All School Events
END:VEVENT
BEGIN:VEVENT
DTSTART;TZID=America/New_York:20240918T160000
DTEND;TZID=America/New_York:20240918T160000
DTSTAMP:20260424T222505
CREATED:20240822T182649Z
LAST-MODIFIED:20240912T191338Z
UID:44805-1726675200-1726675200@www.putneyschool.org
SUMMARY:Girls @ Eagle Hill
DESCRIPTION:Girls @ Eagle Hill
URL:https://www.putneyschool.org/event/girls-eagle-hill/
CATEGORIES:All School Events
END:VEVENT
BEGIN:VEVENT
DTSTART;TZID=America/New_York:20240920T163000
DTEND;TZID=America/New_York:20240920T180000
DTSTAMP:20260424T222505
CREATED:20240815T181256Z
LAST-MODIFIED:20240919T191511Z
UID:44522-1726849800-1726855200@www.putneyschool.org
SUMMARY:Art Opening - Johnny Swing
DESCRIPTION:Art Opening – Johnny Swing
URL:https://www.putneyschool.org/event/art-opening-johnny-swing/
LOCATION:Currier Gallery
CATEGORIES:All School Events
END:VEVENT
BEGIN:VEVENT
DTSTART;TZID=America/New_York:20240921T143000
DTEND;TZID=America/New_York:20240921T143000
DTSTAMP:20260424T222505
CREATED:20240822T182649Z
LAST-MODIFIED:20240919T191511Z
UID:44806-1726929000-1726929000@www.putneyschool.org
SUMMARY:Open @ Dublin - 1:00 depart
DESCRIPTION:Open @ Dublin – 1:00 depart
URL:https://www.putneyschool.org/event/open-dublin/
CATEGORIES:All School Events
END:VEVENT
BEGIN:VEVENT
DTSTART;TZID=America/New_York:20240921T143000
DTEND;TZID=America/New_York:20240921T143000
DTSTAMP:20260424T222505
CREATED:20240822T182649Z
LAST-MODIFIED:20240919T191511Z
UID:44807-1726929000-1726929000@www.putneyschool.org
SUMMARY:Girls @ Dublin - 1:00 depart
DESCRIPTION:Girls @ Dublin – 1:00 depart
URL:https://www.putneyschool.org/event/girls-dublin/
CATEGORIES:All School Events
END:VEVENT
BEGIN:VEVENT
DTSTART;TZID=America/New_York:20240925T143000
DTEND;TZID=America/New_York:20240925T143000
DTSTAMP:20260424T222505
CREATED:20240822T182650Z
LAST-MODIFIED:20240919T191512Z
UID:44808-1727274600-1727274600@www.putneyschool.org
SUMMARY:Open @ Four Rivers
DESCRIPTION:Open @ Four Rivers
URL:https://www.putneyschool.org/event/open-four-rivers/
CATEGORIES:All School Events
END:VEVENT
BEGIN:VEVENT
DTSTART;TZID=America/New_York:20240925T143000
DTEND;TZID=America/New_York:20240925T143000
DTSTAMP:20260424T222505
CREATED:20240822T182650Z
LAST-MODIFIED:20240919T191512Z
UID:44809-1727274600-1727274600@www.putneyschool.org
SUMMARY:Girls vs SBS
DESCRIPTION:Girls vs SBS
URL:https://www.putneyschool.org/event/girls-vs-sbs/
LOCATION:Athletic Fields
CATEGORIES:All School Events
END:VEVENT
BEGIN:VEVENT
DTSTART;TZID=America/New_York:20240925T153000
DTEND;TZID=America/New_York:20240925T153000
DTSTAMP:20260424T222505
CREATED:20240822T182650Z
LAST-MODIFIED:20240919T191512Z
UID:44810-1727278200-1727278200@www.putneyschool.org
SUMMARY:XC @ Four Rivers
DESCRIPTION:XC @ Four Rivers
URL:https://www.putneyschool.org/event/xc-four-rivers/
CATEGORIES:All School Events
END:VEVENT
BEGIN:VEVENT
DTSTART;VALUE=DATE:20240928
DTEND;VALUE=DATE:20240929
DTSTAMP:20260424T222505
CREATED:20240423T150612Z
LAST-MODIFIED:20240423T150808Z
UID:41238-1727481600-1727567999@www.putneyschool.org
SUMMARY:Admission Open House
DESCRIPTION:Join us Saturday\, September 28 to learn more about The Putney School. Visit classes\, meet with students and faculty\, and peek into life on our beautiful campus.
URL:https://www.putneyschool.org/event/admission-open-house-16/
CATEGORIES:Admissions
ATTACH;FMTTYPE=image/jpeg:https://www.putneyschool.org/wp-content/uploads/2023/12/class-challeges-thumbnail.jpg
END:VEVENT
BEGIN:VEVENT
DTSTART;TZID=America/New_York:20240928T140000
DTEND;TZID=America/New_York:20240928T140000
DTSTAMP:20260424T222505
CREATED:20240822T182650Z
LAST-MODIFIED:20240926T192534Z
UID:44811-1727532000-1727532000@www.putneyschool.org
SUMMARY:Girls @ Bement
DESCRIPTION:Girls @ Bement
URL:https://www.putneyschool.org/event/girls-bement/
CATEGORIES:All School Events
END:VEVENT
BEGIN:VEVENT
DTSTART;VALUE=DATE:20240929
DTEND;VALUE=DATE:20240930
DTSTAMP:20260424T222505
CREATED:20240912T191339Z
LAST-MODIFIED:20240926T192534Z
UID:45739-1727568000-1727654399@www.putneyschool.org
SUMMARY:Rowing Green Mountain Head
DESCRIPTION:Rowing Green Mountain Head
URL:https://www.putneyschool.org/event/rowing-green-mountain-head/
LOCATION:Main Bldg. Lot
CATEGORIES:All School Events
END:VEVENT
END:VCALENDAR